BEGIN:VCALENDAR
VERSION:2.0
PRODID:-//Календарь экскурсий и мероприятий в Москве - ECPv6.14.1//NONSGML v1.0//EN
CALSCALE:GREGORIAN
METHOD:PUBLISH
X-WR-CALNAME:Календарь экскурсий и мероприятий в Москве
X-ORIGINAL-URL:https://xn--b1aghaiacprbijlcgx0o.xn--p1ai
X-WR-CALDESC:Мероприятия для Календарь экскурсий и мероприятий в Москве
REFRESH-INTERVAL;VALUE=DURATION:PT1H
X-Robots-Tag:noindex
X-PUBLISHED-TTL:PT1H
BEGIN:VTIMEZONE
TZID:Europe/Moscow
BEGIN:STANDARD
TZOFFSETFROM:+0300
TZOFFSETTO:+0300
TZNAME:MSK
DTSTART:20230101T000000
END:STANDARD
END:VTIMEZONE
BEGIN:VEVENT
DTSTART;TZID=Europe/Moscow:20231011T180000
DTEND;TZID=Europe/Moscow:20231011T200000
DTSTAMP:20260422T045210
CREATED:20231002T205235Z
LAST-MODIFIED:20231003T063605Z
UID:2041-1697047200-1697054400@xn--b1aghaiacprbijlcgx0o.xn--p1ai
SUMMARY:Ольга Бутакова. АПЭКИ Товарищество. ГИД В ПОЛЕ: Локально-территориальные маршруты аттестации\, №2 Кольцо центральных площадей.
DESCRIPTION:Друзья! Открываем запись на оффлайн события Товарищества в первой половине октября \n11 октября вт в 18:00 – ГИД В ПОЛЕ: Локально-территориальные маршруты аттестации\, №2 Кольцо центральных площадей.\nМастер-класс Ольги Бутаковой (до 10 чел)\, продолжительность 2 часа \n12 октября чт в 14:00 – ИНСТРУМЕНТЫ ГИДА:\nИнтернет-инструменты в работе экскурсовода. Аттестация\, продвижение\, экскурсоведение.\nЛекция Ольги Зотовой (до 15 человек)\, продолжительность 1\,5 часа \nУсловия участия:\nДля членов Товарищества – БЕСПЛАТНО (см. Как стать членом Товарищества) \n❗️Разовое посещение ЛЮБОГО мероприятия для сторонних слушателей – БЕСПЛАТНО\, каждое последующее – 700 ₽.
URL:https://xn--b1aghaiacprbijlcgx0o.xn--p1ai/event/2041
CATEGORIES:Архитектурные экскурсии,Аттестация,Историческая экскурсия,История архитектуры,Литературные экскурсии,Мастер-класс,Мастер-класс для экскурсоводов,Пешеходные экскурсии,Сборная экскурсия
END:VEVENT
BEGIN:VEVENT
DTSTART;TZID=Europe/Moscow:20230926T180000
DTEND;TZID=Europe/Moscow:20230926T203000
DTSTAMP:20260422T045210
CREATED:20230925T092438Z
LAST-MODIFIED:20230925T103938Z
UID:1805-1695751200-1695760200@xn--b1aghaiacprbijlcgx0o.xn--p1ai
SUMMARY:Ольга Бутакова. АЭИиТ Товарищество. ГИД В ПОЛЕ. Тверская улица
DESCRIPTION:Ассоциация экскурсионной индустрии и туризма Товарищество. \n26 сентября в 18.00 проводит мастер-класс для подготовки к аттестации. \nЛокально-территориальные маршруты аттестации: \n№4 Тверская улица. \nМастер-класс Ольги Бутаковой\,  продолжительность 2-2.5 часа \nУсловия участия: \nДля членов Товарищества – БЕСПЛАТНО \nРазовое посещение ЛЮБОГО мероприятия для сторонних слушателей – БЕСПЛАТНО\, каждое последующее – 700 р. \n📝Запись в WhatsApp/Telegram – 8-929-639-95-81 Ксения
URL:https://xn--b1aghaiacprbijlcgx0o.xn--p1ai/event/1805
CATEGORIES:Аттестация,Мастер-класс,Мастер-класс для экскурсоводов
END:VEVENT
END:VCALENDAR