BEGIN:VCALENDAR
VERSION:2.0
PRODID:-//Календарь экскурсий и мероприятий в Москве - ECPv6.14.1//NONSGML v1.0//EN
CALSCALE:GREGORIAN
METHOD:PUBLISH
X-WR-CALNAME:Календарь экскурсий и мероприятий в Москве
X-ORIGINAL-URL:https://xn--b1aghaiacprbijlcgx0o.xn--p1ai
X-WR-CALDESC:Мероприятия для Календарь экскурсий и мероприятий в Москве
REFRESH-INTERVAL;VALUE=DURATION:PT1H
X-Robots-Tag:noindex
X-PUBLISHED-TTL:PT1H
BEGIN:VTIMEZONE
TZID:Europe/Moscow
BEGIN:STANDARD
TZOFFSETFROM:+0300
TZOFFSETTO:+0300
TZNAME:MSK
DTSTART:20240101T000000
END:STANDARD
END:VTIMEZONE
BEGIN:VEVENT
DTSTART;TZID=Europe/Moscow:20240622T160000
DTEND;TZID=Europe/Moscow:20240622T183000
DTSTAMP:20260423T235431
CREATED:20240607T065949Z
LAST-MODIFIED:20240609T163557Z
UID:3488-1719072000-1719081000@xn--b1aghaiacprbijlcgx0o.xn--p1ai
SUMMARY:Мария Логинова "Переулками Чистых прудов: архитектурные изюминки Огородной слободы"
DESCRIPTION:На прогулке по тихому\, зелёному району между Бульварным и Садовым кольцом будем разбираться\, как архитектура разных периодов отражала дух времени\, что хотел сказать архитектор и на какие детали стоит обращать внимание\, чтобы “читать архитектуру”.\nУвидим: \n\nгробницу древнеримского пекаря\nманифест конструктивизма\nреверанс техническому гению Британской короны\nредкий извод архитектуры историзма — шатоэск\nновейший проект главного архитектора Москвы\nяркое произведение эпохи постмодерна — “пасхалочку” в прямом смысле этого слова\n\nУзнаем: \n\nкак швейцарские архитекторы озаботились тоской сотрудников своего посольства по родным краям\nчто за рыцари стоят на страже Москвы\nисторию самого громкого тройного самоубийства начала 20 века\nкем была «искалечена навсегда способность любить» Бориса Пастернака\n\nПродолжительность прогулки около 2ч. 15мин \nВстречаемся у м.Чистые пруды выход № 2. Начало в 16.00 \nОкончание: Чистопрудный бульвар\, возле д.21 \nБилеты: https://klassnie.timepad.ru/event/2915273/
URL:https://xn--b1aghaiacprbijlcgx0o.xn--p1ai/event/3488
CATEGORIES:Архитектурные экскурсии,Бульварное кольцо,Историческая экскурсия,История архитектуры,История искусства,Пешеходные экскурсии,Сборная экскурсия,Экскурсии для взрослых,Экскурсия,Экскурсия 12+
END:VEVENT
BEGIN:VEVENT
DTSTART;TZID=Europe/Moscow:20240420T130000
DTEND;TZID=Europe/Moscow:20240420T153000
DTSTAMP:20260423T235431
CREATED:20240416T053117Z
LAST-MODIFIED:20240416T055337Z
UID:3081-1713618000-1713627000@xn--b1aghaiacprbijlcgx0o.xn--p1ai
SUMMARY:Антон Нефрит. “По бульварам. От поэта до призрака”
DESCRIPTION:Бульварное кольцо – место отдыха\, где москвичи и гости столицы в разные века любили отдыхать\, наслаждаясь прогулкой и культурным досугом в различных заведениях вдоль бульваров. Мы погрузимся в атмосферу московских бульваров: пройдём от Тверского до Гоголевского\, раскрасив их новыми красками и эмоциями\, связав прошлое с настоящим!\nБульварное кольцо для вас потом никогда не будет прежним! \nАнонс и подробности:\nhttps://vk.cc/cvJPnN \nДля участия запишитесь:\nhttps://vk.cc/cwc7Ae
URL:https://xn--b1aghaiacprbijlcgx0o.xn--p1ai/event/3081
LOCATION:у памятника Пушкину. М. Пушкинская/Тверская/Чеховская\, выход № 5
CATEGORIES:Бульварное кольцо,Пешеходные экскурсии,Пушкин,Сборная экскурсия
END:VEVENT
END:VCALENDAR