BEGIN:VCALENDAR
VERSION:2.0
PRODID:-//Календарь экскурсий и мероприятий в Москве - ECPv6.14.1//NONSGML v1.0//EN
CALSCALE:GREGORIAN
METHOD:PUBLISH
X-WR-CALNAME:Календарь экскурсий и мероприятий в Москве
X-ORIGINAL-URL:https://xn--b1aghaiacprbijlcgx0o.xn--p1ai
X-WR-CALDESC:Мероприятия для Календарь экскурсий и мероприятий в Москве
REFRESH-INTERVAL;VALUE=DURATION:PT1H
X-Robots-Tag:noindex
X-PUBLISHED-TTL:PT1H
BEGIN:VTIMEZONE
TZID:Europe/Moscow
BEGIN:STANDARD
TZOFFSETFROM:+0300
TZOFFSETTO:+0300
TZNAME:MSK
DTSTART:20230101T000000
END:STANDARD
END:VTIMEZONE
BEGIN:VEVENT
DTSTART;TZID=Europe/Moscow:20231010T190000
DTEND;TZID=Europe/Moscow:20231010T220000
DTSTAMP:20260423T012044
CREATED:20231002T193426Z
LAST-MODIFIED:20231002T193551Z
UID:2002-1696964400-1696975200@xn--b1aghaiacprbijlcgx0o.xn--p1ai
SUMMARY:Мария Даянова. Дегустация с искусствоведом "Великие коллекционеры Морозовы"
DESCRIPTION:Дегустация российских вин\, которые сейчас можно и нужно коллекционировать.\nИнтересный рассказ искусствоведа о братьях Морозовых с демонстрацией предметов искусства из их легендарной коллекции. \n\nО чем пойдет речь в рассказе искусствоведа Марии: \nКажется\, нет такого человека\, кто бы не слышал о этой богатейшей купеческой династии. А после выставки 2022 года «Брат Иван. Коллекции Михаила и Ивана Морозовых»\, ставшей хитом ГМИИ им. Пушкина\, мы хорошо представили\, как бы мог выглядеть музей Ивана Морозова\, если бы его коллекцию не национализировали. На лекции мы:-поговорим о том\, как Морозовы пришли к коллекционированию-узнаем\, почему оба брата не мыслили жизнь без искусства-поймём принципы коллекционирования-вспомним\, какие шедевры мировой живописи хранятся в ведущих музеях России благодаря Морозовым-убедимся\, что можно совмещать управление крупным бизнесом и страсть к искусству-поговорим о интересных\, но нелёгких судьбах этих успешных предпринимателей и коллекционеров \nВинный сет: \n\nВино игристое Лефкадия Темелион Винтаж Брют 2019\nГалицкий и Галицкий Красная Горка Шардоне 2020\nРепин Олег Рислинг 2021\nПавел Швец Тигр Каберне Совиньон 2019\nВино Le K2 Ле К2 Бандит красное сухое 2022\nЛефкадия Резерв Merci Patrick Мерси Патрик 2017\n\nВ стоимость дегустации включены стартовые закуски\, есть возможность сделать заказ по меню \nСтоимость 3900 \nРегистрация и билеты по ссылке \nРесторан “ХЛЕБ И ВИНО” \nТверская ул.\, 12\, стр. 2
URL:https://xn--b1aghaiacprbijlcgx0o.xn--p1ai/event/2002
LOCATION:Ресторан “Хлеб и вино”\, Тверская ул.\, 12 стр. 2\, Москва
CATEGORIES:Лекции,Экскурсии вечером,Экскурсия с вином
END:VEVENT
END:VCALENDAR