BEGIN:VCALENDAR
VERSION:2.0
PRODID:-//Календарь экскурсий и мероприятий в Москве - ECPv6.14.1//NONSGML v1.0//EN
CALSCALE:GREGORIAN
METHOD:PUBLISH
X-WR-CALNAME:Календарь экскурсий и мероприятий в Москве
X-ORIGINAL-URL:https://xn--b1aghaiacprbijlcgx0o.xn--p1ai
X-WR-CALDESC:Мероприятия для Календарь экскурсий и мероприятий в Москве
REFRESH-INTERVAL;VALUE=DURATION:PT1H
X-Robots-Tag:noindex
X-PUBLISHED-TTL:PT1H
BEGIN:VTIMEZONE
TZID:Europe/Moscow
BEGIN:STANDARD
TZOFFSETFROM:+0300
TZOFFSETTO:+0300
TZNAME:MSK
DTSTART:20230101T000000
END:STANDARD
END:VTIMEZONE
BEGIN:VEVENT
DTSTART;TZID=Europe/Moscow:20230606T190000
DTEND;TZID=Europe/Moscow:20230606T210000
DTSTAMP:20260422T022747
CREATED:20230612T184608Z
LAST-MODIFIED:20230613T092733Z
UID:340-1686078000-1686085200@xn--b1aghaiacprbijlcgx0o.xn--p1ai
SUMMARY:Мария Деулина. Клинический городок. Москва-медицинская и меценатская
DESCRIPTION:Возможно проведение индивидуальной экскурсии в другое время\, по запросу для групп от 5 человек. \nУточнять по телефону +79161001418
URL:https://xn--b1aghaiacprbijlcgx0o.xn--p1ai/event/340
CATEGORIES:Историческая экскурсия,Медицинская Москва,Меценаты,Пешеходные экскурсии,Сборная экскурсия,Экскурсии вечером
END:VEVENT
END:VCALENDAR