BEGIN:VCALENDAR
VERSION:2.0
PRODID:-//Календарь экскурсий и мероприятий в Москве - ECPv6.14.1//NONSGML v1.0//EN
CALSCALE:GREGORIAN
METHOD:PUBLISH
X-WR-CALNAME:Календарь экскурсий и мероприятий в Москве
X-ORIGINAL-URL:https://xn--b1aghaiacprbijlcgx0o.xn--p1ai
X-WR-CALDESC:Мероприятия для Календарь экскурсий и мероприятий в Москве
REFRESH-INTERVAL;VALUE=DURATION:PT1H
X-Robots-Tag:noindex
X-PUBLISHED-TTL:PT1H
BEGIN:VTIMEZONE
TZID:Europe/Moscow
BEGIN:STANDARD
TZOFFSETFROM:+0300
TZOFFSETTO:+0300
TZNAME:MSK
DTSTART:20230101T000000
END:STANDARD
END:VTIMEZONE
BEGIN:VEVENT
DTSTART;TZID=Europe/Moscow:20230925T124500
DTEND;TZID=Europe/Moscow:20230925T150000
DTSTAMP:20260422T135605
CREATED:20230924T180217Z
LAST-MODIFIED:20230925T082425Z
UID:1749-1695645900-1695654000@xn--b1aghaiacprbijlcgx0o.xn--p1ai
SUMMARY:Ирина Вишнякова. «История начинается с карты»
DESCRIPTION:«История начинается с карты»\, выставка\, лекция\, экскурсия и сюрприз.\n\n\nВ “Доме на Брестской” выставка «История картографии Москвы»\, но для полного погружения на неизведанную территорию нужен сталкер. Вашим проводником будет экскурсовод Ирина Вишнякова. Стоимость 💰 600 руб./чел.\, группы 👫 до 15 чел. \n  \nВас ждут: \n* радиогиды для удобства (пространство зала велико); \n* сопроводительная лекция про историю московской картографии; \n* экскурсия по выставке; \n* интерактивные панели и говорящие карты (qr-код); \n+ горящая карта послепожарной Москвы!; \n* библиотека книг XIX-XX веков о картографии и градостроительстве; \n* детский уголок; \n* в зале работает wi-fi и есть кулер; \n* сюрприз-выставка “Наследие Федора Шехтеля на карте Москвы”! \nВы узнаете: \n* когда появилась первая карта Руси и кто ее составил; \n* какое значение имеет размер\, а в случае картографии- масштаб; \n* сколько ошибок и каких было сделано на картах; \n* откуда взялись мифические существа на картах и зачем их туда помещали; \n* была ли в древности туристическая карта Москвы с достопримечательностями для приезжающих… \nВ понедельник 25 сентября в 12.45. \nЗапись по ссылке
URL:https://xn--b1aghaiacprbijlcgx0o.xn--p1ai/event/1749
LOCATION:Москва
CATEGORIES:Историческая экскурсия,История архитектуры,Сборная экскурсия,Экскурсии днем в будни
END:VEVENT
END:VCALENDAR