BEGIN:VCALENDAR
VERSION:2.0
PRODID:-//Календарь экскурсий и мероприятий в Москве - ECPv6.14.1//NONSGML v1.0//EN
CALSCALE:GREGORIAN
METHOD:PUBLISH
X-WR-CALNAME:Календарь экскурсий и мероприятий в Москве
X-ORIGINAL-URL:https://xn--b1aghaiacprbijlcgx0o.xn--p1ai
X-WR-CALDESC:Мероприятия для Календарь экскурсий и мероприятий в Москве
REFRESH-INTERVAL;VALUE=DURATION:PT1H
X-Robots-Tag:noindex
X-PUBLISHED-TTL:PT1H
BEGIN:VTIMEZONE
TZID:Europe/Moscow
BEGIN:STANDARD
TZOFFSETFROM:+0300
TZOFFSETTO:+0300
TZNAME:MSK
DTSTART:20230101T000000
END:STANDARD
END:VTIMEZONE
BEGIN:VEVENT
DTSTART;TZID=Europe/Moscow:20230917T123000
DTEND;TZID=Europe/Moscow:20230917T143000
DTSTAMP:20260420T193406
CREATED:20230913T075238Z
LAST-MODIFIED:20230916T183923Z
UID:1461-1694953800-1694961000@xn--b1aghaiacprbijlcgx0o.xn--p1ai
SUMMARY:Ирина Чижевская. Город на холме
DESCRIPTION:«Кто хочет познать Россию\, должен отсюда посмотреть на Москву»\, так говорил Чехов о Воробьевых горах. Вот и мы поднимемся на эскалаторе на самую высокую точку Москвы 🏔 и посмотрим не только на город сверху\, но и на настоящий научный городок\, раскинувшийся на ее вершине. Может и про Россию поймем что-то новое! Ведь история этого холма началась очень за долго до знаменитой высотки. Узнаем где должен был стоять Храм Христа Спасителя✝\, почему Иван Грозный вместо литургии гулял по Воробьевым горам 🤴🏻 и за что это место любили русские правители всех времен. Как проводила здесь время богатая публика\, а как народ попроще 🧺 и как это место стало спортивным центром нашего города. Где молился Кутузов\, а Наполеон любовался Москвой. 🫣\nКак построили уникальную станцию метро проработавшую меньше 30-ти лет и какие фильмы успели снять в знаменитой галерее. 🎥\nИ конечно поговорим о главной высотке Москвы. Что должно было стоять на месте МГУ\, да и где должен был находится сам университет. Какие архитектурные стили хранит в себе главное здание\, какие пропорции заложены в башнях и скульптурах и как они связаны между собой и действительно ли это учебное заведение или просто гигантское общежитие. Пройдемся по великолепному партеру перед парадным входом и посмотрим на демократичный студенческий фасад. Как устроено здание\, кто в нем живет\, а кто учится и можно ли здесь прожить несколько лет ни разу не покидая пределов студенческого городка.👨🏻‍🎓\nОбязательно поговорим о воробьях или одном воробье\, давшем название этому сияющему холму.
URL:https://xn--b1aghaiacprbijlcgx0o.xn--p1ai/event/1461
LOCATION:Соколиная гора
CATEGORIES:А.П. Чехов,Архитектурные экскурсии,Историческая экскурсия,Масоны,Сборная экскурсия,Экскурсия утром
END:VEVENT
BEGIN:VEVENT
DTSTART;TZID=Europe/Moscow:20230916T120000
DTEND;TZID=Europe/Moscow:20230916T140000
DTSTAMP:20260420T193406
CREATED:20230715T155827Z
LAST-MODIFIED:20230715T155956Z
UID:1105-1694865600-1694872800@xn--b1aghaiacprbijlcgx0o.xn--p1ai
SUMMARY:Роман Попов. Экскурсия "Булгаков и Белозерская"
DESCRIPTION:Загрузка…
URL:https://xn--b1aghaiacprbijlcgx0o.xn--p1ai/event/1105
LOCATION:м. “Маяковская”\, Триумфальная площадь\, у памятника Маяковскому\, Москва\, ВЫБОР\, Российская Федерация
CATEGORIES:Литературные экскурсии,Пешеходные экскурсии,Экскурсии для взрослых,Экскурсия,Экскурсия утром
END:VEVENT
BEGIN:VEVENT
DTSTART;TZID=Europe/Moscow:20230916T110000
DTEND;TZID=Europe/Moscow:20230916T130000
DTSTAMP:20260420T193406
CREATED:20230920T045336Z
LAST-MODIFIED:20230920T045419Z
UID:1611-1694862000-1694869200@xn--b1aghaiacprbijlcgx0o.xn--p1ai
SUMMARY:Наталья Попова. Километры. Клуб любителей ВДНХ – знакомимся с выставкой\, её историей и масштабами
DESCRIPTION:Приглашаем вас знакомиться с ВДНХ – масштабной выставкой\, удивляющей гостей уже более 80 лет!  \nКогда? В субботу\, 16 сентября в 11.00. \nОткуда начинаем? От главной входной арки выставки (проспект Мира\, д. 119В).  \nКуда пойдем? Идём бродить по территории ВДНХ\, восхищаясь масштабами проекта и тщательности реставрации\, а по пути узнаем: \n– сколько названий поменяла выставка и с чем связана такая переменчивость\,  \n– где можно обнять все семь сталинских высоток Москвы и арку Мосфильма\,  \n– сколько фонтанов расположено на территории выставки и почему один – сухой\,  \n– какое отношение ко всему этому имеют Мухина\, Лисицкий\, Иофан и Мичурин. \nПродолжительность – 2\,5 часа.. \nСтоимость – 1200₽ (включая экскурсионный сбор выставки).  
URL:https://xn--b1aghaiacprbijlcgx0o.xn--p1ai/event/1611
LOCATION:Москва\, проспект Мира\, д. 119В\, Арка Главного входа\, Проспект Мира\, д. 119В\, Москва
CATEGORIES:Архитектурные экскурсии,Историческая экскурсия,История архитектуры,Пешеходные экскурсии,Сборная экскурсия,Экскурсия в парке,Экскурсия утром
END:VEVENT
BEGIN:VEVENT
DTSTART;TZID=Europe/Moscow:20230902T120000
DTEND;TZID=Europe/Moscow:20230902T140000
DTSTAMP:20260420T193406
CREATED:20230715T155729Z
LAST-MODIFIED:20230715T155739Z
UID:1101-1693656000-1693663200@xn--b1aghaiacprbijlcgx0o.xn--p1ai
SUMMARY:Роман Попов. Экскурсия "Булгаков и Лаппа"
DESCRIPTION:Загрузка…
URL:https://xn--b1aghaiacprbijlcgx0o.xn--p1ai/event/1101
LOCATION:м. “Тверская”\, выход к “Известиям”\, Пушкинская площадь \, 5\, Москва\, Российская Федерация
CATEGORIES:Литературные экскурсии,Пешеходные экскурсии,Экскурсия,Экскурсия утром
END:VEVENT
BEGIN:VEVENT
DTSTART;TZID=Europe/Moscow:20230821T170000
DTEND;TZID=Europe/Moscow:20230821T190000
DTSTAMP:20260420T193406
CREATED:20230715T103853Z
LAST-MODIFIED:20230715T103853Z
UID:1096-1692637200-1692644400@xn--b1aghaiacprbijlcgx0o.xn--p1ai
SUMMARY:Роман Попов и Анна Авдеева. Экскурсия "От Интернационала до Мурки"
DESCRIPTION:Загрузка…
URL:https://xn--b1aghaiacprbijlcgx0o.xn--p1ai/event/1096
LOCATION:м. “Баррикадная”\, улица Баррикадная\, строение 2\, Москва\, Москва\, Российская Федерация
CATEGORIES:Пешеходные экскурсии,Сборная экскурсия,Спектакль-прогулка,Экскурсии в музеи,Экскурсии для взрослых,Экскурсия утром
END:VEVENT
BEGIN:VEVENT
DTSTART;TZID=Europe/Moscow:20230812T110000
DTEND;TZID=Europe/Moscow:20230812T130000
DTSTAMP:20260420T193406
CREATED:20230714T192928Z
LAST-MODIFIED:20230714T193904Z
UID:1067-1691838000-1691845200@xn--b1aghaiacprbijlcgx0o.xn--p1ai
SUMMARY:Роман Попов. Экскурсия "Булгаков и театры"
DESCRIPTION:Загрузка…
URL:https://xn--b1aghaiacprbijlcgx0o.xn--p1ai/event/1067
LOCATION:Москва\, Театральная площадь\, у фонтана\, Театральная площадь\, Москва\, Российская Федерация
CATEGORIES:Экскурсии для взрослых,Экскурсия утром
END:VEVENT
BEGIN:VEVENT
DTSTART;TZID=Europe/Moscow:20230708T110000
DTEND;TZID=Europe/Moscow:20230708T130000
DTSTAMP:20260420T193406
CREATED:20230626T071411Z
LAST-MODIFIED:20230626T071606Z
UID:716-1688814000-1688821200@xn--b1aghaiacprbijlcgx0o.xn--p1ai
SUMMARY:Наталья Попова. Километры. Утренняя Таганская
DESCRIPTION:Просыпаемся вместе с любимой и такой разной Таганкой \nПродолжаем летние прогулки по нежно любимому району\, и приглашаем вас в переулки Таганки – наблюдать\, как просыпается город \nКогда? Суббота\, 8 июля в 11.00. \nОткуда начинаем? От Таганской площади\, возле метро «Марксистская» (ул. Таганская\, 2) \nКуда пойдем? Идём петлять по дворам и тропинкам Таганки\, а по пути расскажем:\n– как так получилось\, что на Таганке есть Папа римский\,\n– кто такие Алексий\, Алексеевы\, и в честь кого местная слобода стала Алексеевской\,\n– где селились староверы-поповцы и чем их «заманивали» городские власти\,\n– какое ко всему этому имеют отношение Станиславский\, Морозов\, Коровин и другие. \nСтоимость – 800₽ (дети до 12 лет бесплатно; пенсионеры 400₽). Продолжительность – 1\,5 часа +15 минут. \nЗапись через телеграм https://t.me/kilometers_project
URL:https://xn--b1aghaiacprbijlcgx0o.xn--p1ai/event/716
LOCATION:Москва\, ул. Таганская\, 2\, м. Марксистская\, ул. Таганская\, 2\, Москва
CATEGORIES:Пешеходные экскурсии,Сборная экскурсия,Экскурсия утром
END:VEVENT
BEGIN:VEVENT
DTSTART;TZID=Europe/Moscow:20230701T023000
DTEND;TZID=Europe/Moscow:20230701T040000
DTSTAMP:20260420T193406
CREATED:20230625T173522Z
LAST-MODIFIED:20230625T173538Z
UID:689-1688178600-1688184000@xn--b1aghaiacprbijlcgx0o.xn--p1ai
SUMMARY:Крыши и выше. Рассветомания на крыше небоскрёба. Встречаем утро с чаем и фотографом.
DESCRIPTION:Рассвет — пожалуй\, самое атмосферное и романтичное время суток! Практически безлюдный мегаполис\, безумной красоты небо\, окутывающая город дымка. Красота\, ради которой совсем не жалко не поспать — хотя бы одну ночь! \nСпециально для тех\, кто хочет вживую увидеть рассвет в Москве с лучших высотных точек\, мы запускаем Рассветоманию — серию мероприятий\, которые проведём в рассветные часы. \nМы соберёмся на вершине небоскрёба\, откуда весь город виден как на ладони! Будем фотографировать столицу с высоты\, а нас будет снимать профессиональный фотограф. \nА ещё гостей ожидает чай\, хороший кофе\, и возможность поболтать обо всём том\, о чем захочется говорить в столь ранний час \nМероприятие пройдёт в спокойном камерном формате\, после каждый из гостей сможет самостоятельно прогуляться по городу и увидеть\, как он красив и уютен ранним утром. \nВнимание гостям! \nТерриториально мероприятие пройдёт рядом с м. Ломоносовский проспект\, полный адрес и схему прохода мы пришлём вам в смс за день
URL:https://xn--b1aghaiacprbijlcgx0o.xn--p1ai/event/689
LOCATION:Москва\, ул. Мосфильмовская\, ул. Мосфильмовская\, Москва
CATEGORIES:Сборная экскурсия,Смотровая площадка,Фотоэкскурсия,Экскурсия на крыше,Экскурсия утром
END:VEVENT
BEGIN:VEVENT
DTSTART;TZID=Europe/Moscow:20230625T110000
DTEND;TZID=Europe/Moscow:20230625T130000
DTSTAMP:20260420T193406
CREATED:20230620T092624Z
LAST-MODIFIED:20230620T092624Z
UID:532-1687690800-1687698000@xn--b1aghaiacprbijlcgx0o.xn--p1ai
SUMMARY:Екатерина Козловская. Великолепная Пречистенка: фасады и лица
DESCRIPTION:Приглашаю на экскурсию\n«Великолепная Пречистенка: фасады и лица» \nМесто встречи:\nМЕТРО КРОПОТКИНСКАЯ\nна улице у ВЫХОДА НОМЕР 1\nСтоимость 600 рублей с человека. \nЗапись по телефону +7 (929) 637 18 14 (звоните или пишите Ватсапп) \nМы отправимся в путешествие по улице Пречистенка – настоящему архитектурному заповеднику Москвы\, где каждое здание хранит в себе следы множества эпох. За нарядными фасадами отыщем потайные дворики и тихие переулки. А за парадными портретами знаменитых жителей этих мест обнаружим их тайны и секреты. \nУвидим: \n\nбоярские палаты\, дворянские усадьбы и особняки купцов-миллионеров;\nсамую старую пожарную часть и аптеку города;\nстолетнюю вывеску булочной;\nсамый достоверный памятник Льву Толстому и самый мечтательный – Пушкину.\n\nУзнаем: \n\nгде располагалось древнее Чертолье – и почему царь велел эту улицу переименовать;\nкакую роль борода юродивого сыграла в судьбе одного из местных жителей;\nгде покупал лекарства Чехов для больного друга-живописца;\nпочему Денис Давыдов решил продать особняк на Пречистенке – и при чем здесь каланча;\nкак одна пожилая обитательница этих краев попала в два знаменитейших литературных произведения;\nкакую удивительную кадриль исполнили две великих танцовщицы;\nкаким забавным способом рассылали любовные записки ученики одной из столичных гимназий.\n\nА еще: \n\nобнаружим архитектурный автограф на карнизе нарядного здания;\nсыграем в игру «верю-не верю» у памятника легендарному скульптору;\nнайдем перекресток\, на котором произошли волнующие события двух любимых фильмов.\n\n 
URL:https://xn--b1aghaiacprbijlcgx0o.xn--p1ai/event/532
LOCATION:метро “Кропоткинская” выход номер 1\, На улице у станции метро Кропоткинская (выход 1)\, Москва
CATEGORIES:Пешеходные экскурсии,Сборная экскурсия,Экскурсия утром
END:VEVENT
BEGIN:VEVENT
DTSTART;TZID=Europe/Moscow:20230604T110000
DTEND;TZID=Europe/Moscow:20230604T124500
DTSTAMP:20260420T193406
CREATED:20230602T092821Z
LAST-MODIFIED:20230604T035855Z
UID:134-1685876400-1685882700@xn--b1aghaiacprbijlcgx0o.xn--p1ai
SUMMARY:Километры. Утренняя Таганская
DESCRIPTION:Просыпаемся вместе с любимой и такой разной Таганкой \nПервый летний месяц начнём прогулкой по нежно любимому району\, и приглашаем вас в переулки Таганки – наблюдать\, как просыпается город \nКогда? Воскресенье\, 4 июня в 11.00. \nОткуда начинаем? От Таганской площади\, возле метро «Марксистская» (ул. Таганская\, 2) \nКуда пойдем? Идём петлять по дворам и тропинкам Таганки\, а по пути расскажем:\n– как так получилось\, что на Таганке есть Папа римский\,\n– кто такие Алексий\, Алексеевы\, и в честь кого местная слобода стала Алексеевской\,\n– где селились староверы-поповцы и чем их «заманивали» городские власти\,\n– какое ко всему этому имеют отношение Станиславский\, Морозов\, Коровин и другие. \nСтоимость – 800₽ (дети до 12 лет бесплатно; пенсионеры 400₽). Продолжительность – 1\,5 часа +15 минут.
URL:https://xn--b1aghaiacprbijlcgx0o.xn--p1ai/event/134
LOCATION:Москва\, ул. Таганская\, 2\, м. Марксистская\, ул. Таганская\, 2\, Москва
CATEGORIES:Сборная экскурсия,Экскурсия утром
END:VEVENT
END:VCALENDAR