BEGIN:VCALENDAR
VERSION:2.0
PRODID:-//Календарь экскурсий и мероприятий в Москве - ECPv6.14.1//NONSGML v1.0//EN
CALSCALE:GREGORIAN
METHOD:PUBLISH
X-WR-CALNAME:Календарь экскурсий и мероприятий в Москве
X-ORIGINAL-URL:https://xn--b1aghaiacprbijlcgx0o.xn--p1ai
X-WR-CALDESC:Мероприятия для Календарь экскурсий и мероприятий в Москве
REFRESH-INTERVAL;VALUE=DURATION:PT1H
X-Robots-Tag:noindex
X-PUBLISHED-TTL:PT1H
BEGIN:VTIMEZONE
TZID:Europe/Moscow
BEGIN:STANDARD
TZOFFSETFROM:+0300
TZOFFSETTO:+0300
TZNAME:MSK
DTSTART:20240101T000000
END:STANDARD
END:VTIMEZONE
BEGIN:VEVENT
DTSTART;TZID=Europe/Moscow:20240421T110000
DTEND;TZID=Europe/Moscow:20240421T133000
DTSTAMP:20260425T141916
CREATED:20240420T062244Z
LAST-MODIFIED:20240420T065030Z
UID:3123-1713697200-1713706200@xn--b1aghaiacprbijlcgx0o.xn--p1ai
SUMMARY:Ольга Зотова. Кольцо центральных площадей. Учебная экскурсия
DESCRIPTION:Учебная экскурсия по одному из маршрутов аттестации. Посмотрим четыре площади\, поднимемся на смотровую площадку\, будем тренировать методы показа\, разгадывать архитектурные загадки. \nЭкскурсия с радиогидами. \nНачало м. Библиотека имени Ленина выход 4 \nОкончание м. Площадь Революции \nПродолжительность 2\,5 часа \nСтоимость 1000 рублей
URL:https://xn--b1aghaiacprbijlcgx0o.xn--p1ai/event/3123
LOCATION:М. Александровский сад\, м. Библиотека им. Ленина\, выход 4
CATEGORIES:Telegram
ORGANIZER;CN="%D0%9E%D0%BB%D1%8C%D0%B3%D0%B0 %D0%97%D0%BE%D1%82%D0%BE%D0%B2%D0%B0":MAILTO:olga@zotova.org
END:VEVENT
BEGIN:VEVENT
DTSTART;TZID=Europe/Moscow:20240420T155900
DTEND;TZID=Europe/Moscow:20240420T175900
DTSTAMP:20260425T141916
CREATED:20240416T072745Z
LAST-MODIFIED:20240416T072745Z
UID:3098-1713628740-1713635940@xn--b1aghaiacprbijlcgx0o.xn--p1ai
SUMMARY:«75 павильон. Регионы России»
DESCRIPTION:Приглашаю на бесплатную экскурсию по международной выставке-форуму «Россия»\, проходящей на ВДНХ. Мы посетим 75 павильон\, где представлены  все субъекты Российской Федерации\, и вы сможете ощутить величие нашей многонациональной Родины.
URL:https://xn--b1aghaiacprbijlcgx0o.xn--p1ai/event/3098
LOCATION:У Гостевого центра ВДНХ
CATEGORIES:Telegram
END:VEVENT
BEGIN:VEVENT
DTSTART;TZID=Europe/Moscow:20240420T130000
DTEND;TZID=Europe/Moscow:20240420T150000
DTSTAMP:20260425T141916
CREATED:20240418T055543Z
LAST-MODIFIED:20240418T055543Z
UID:3117-1713618000-1713625200@xn--b1aghaiacprbijlcgx0o.xn--p1ai
SUMMARY:Оксана Артюшина. Новодевичий монастырь - обитель царских особ
DESCRIPTION:*Новодевичий монастырь – обитель царских особ*\nНоводевичий монастырь является уникальным памятником русской истории и культуры\, включён в список мирового наследия ЮНЕСКО и является действующей обителью.\nВо время прогулки по монастырю мы поговорим о том\, что родиться царской дочерью было не очень хорошим уделом. О том\, кого именно Новодевичий монастырь принимал в своих кельях. Поговорим о царевне Софье и её непростой судьбе.\nОсмотрим Стрелецкую караульню – то место\, где содержалась царевна – а также поговорим о традиционном рукоделии насельниц монастыря.\nМы пройдём по территории и обязательно зайдем в один из действующих храмов.\nОсмотрим монастырский некрополь (вернее то\, что от него осталось) и вспомним Дениса Давыдова\, Алексея Брусилова\, Ивана Лажечникова и других…\n***\nУ нас пока ещё будет уникальная возможность осмотреть церковь Амвросия Медиоланского – домовый храм Ирины Годуновой\, который обычно закрыт для посещения!\n***\nИногда бывает можно попасть на стену! Стоимость подъема – 300 рублей\, оплачивается дополнительно. Подъем – с сотрудником монастыря по окончании нашей экскурсии. Возможность подъема зависит от проведения ремонтных работ.\n***\nДлительность экскурсии – не менее 2 часов
URL:https://xn--b1aghaiacprbijlcgx0o.xn--p1ai/event/3117
LOCATION:Вход на территорию Новодевичьего монастыря
CATEGORIES:Telegram
END:VEVENT
BEGIN:VEVENT
DTSTART;TZID=Europe/Moscow:20240419T150000
DTEND;TZID=Europe/Moscow:20240419T164500
DTSTAMP:20260425T141916
CREATED:20240418T055517Z
LAST-MODIFIED:20240418T055517Z
UID:3114-1713538800-1713545100@xn--b1aghaiacprbijlcgx0o.xn--p1ai
SUMMARY:Галина Щепеткова. ТАЙНЫ АВИАЦИИ+ тренажёр самолёта
DESCRIPTION:✈️На экскурсии мы окунёмся в мир авиации\, узнаем то\, что скрыто от посторонних глаз  \n✈️На экскурсии увидите вблизи реактивный двигатель и сможете детально его изучить и сфотографировать \n✈️Узнаете\,  где готовят бортпроводников и что входит в их обязанности \n✈️ Увидите настоящую кабину самолёта\, полетаете на тренажёре\, пообщаетесь с настоящими лётчиками! \n✈️ Попробуете себя в работе авиадиспетчера и научитесь держать связь с экипажем \n✈️ Оденетесь в форму действующих пилотов и бортпроводников и сделаете неограниченное количество замечательных фото!  🌥️🌥️😍 \nЭкскурсия проходит в помещении\n1ч 45 мин \n*Отзыв* :\n🙂Детям и взрослым понравилось\, очень хвалили экскурсию. Дети попробовали тренажёры и поработали стюардессами/стюардами  👍
URL:https://xn--b1aghaiacprbijlcgx0o.xn--p1ai/event/3114
LOCATION:ул.Большая Внуковская\, 2
CATEGORIES:Telegram
END:VEVENT
END:VCALENDAR