BEGIN:VCALENDAR
VERSION:2.0
PRODID:-//Календарь экскурсий и мероприятий в Москве - ECPv6.14.1//NONSGML v1.0//EN
CALSCALE:GREGORIAN
METHOD:PUBLISH
X-WR-CALNAME:Календарь экскурсий и мероприятий в Москве
X-ORIGINAL-URL:https://xn--b1aghaiacprbijlcgx0o.xn--p1ai
X-WR-CALDESC:Мероприятия для Календарь экскурсий и мероприятий в Москве
REFRESH-INTERVAL;VALUE=DURATION:PT1H
X-Robots-Tag:noindex
X-PUBLISHED-TTL:PT1H
BEGIN:VTIMEZONE
TZID:Europe/Moscow
BEGIN:STANDARD
TZOFFSETFROM:+0300
TZOFFSETTO:+0300
TZNAME:MSK
DTSTART:20240101T000000
END:STANDARD
END:VTIMEZONE
BEGIN:VEVENT
DTSTART;TZID=Europe/Moscow:20240429T160000
DTEND;TZID=Europe/Moscow:20240429T180000
DTSTAMP:20260421T151613
CREATED:20240424T192222Z
LAST-MODIFIED:20240424T192403Z
UID:3250-1714406400-1714413600@xn--b1aghaiacprbijlcgx0o.xn--p1ai
SUMMARY:Марина Фюрнон. Переулками старой Москвы: Остоженка и Пречистенка
DESCRIPTION:Остоженка и Пречистенка — одни из самых старинных улиц города\, известные еще со времен Ивана Грозного. На этих улицах жили герои войны 1812 года\, дворянские семьи\, великие музыканты\, артисты и писатели. На прогулке мы прикоснёмся к сокровенному прошлому старинного квартала\, где каждое здание хранит отпечаток своего времени и судеб его жителей. \n“Французская изюминка”: поговорим о русских аристократах 19 века и французском языке \nЗапись по ссылке
URL:https://xn--b1aghaiacprbijlcgx0o.xn--p1ai/event/3250
LOCATION:Метро Парк Культуры\, выход 3
CATEGORIES:Telegram
END:VEVENT
BEGIN:VEVENT
DTSTART;TZID=Europe/Moscow:20240429T130000
DTEND;TZID=Europe/Moscow:20240429T150000
DTSTAMP:20260421T151613
CREATED:20240421T171656Z
LAST-MODIFIED:20240421T190918Z
UID:3166-1714395600-1714402800@xn--b1aghaiacprbijlcgx0o.xn--p1ai
SUMMARY:Полина Мальцева. Москва благотворительная
DESCRIPTION:Сезон открыт! Самые выгодные условия в честь первой экскурсии года!\n⠀\nИтак\, 29.04.24 провожу мою флагманскую экскурсию: про влияние благотворительности на облик города и судьбы его жителей.\n⠀\nБольшая советская энциклопедия гласит: «Благотворительность – это помощь\, лицемерно оказываемая представителями господствующих классов некоторой части неимущего населения с целью обмана трудящихся и отвлечения их от классовой борьбы». Но так ли это на самом деле?\n⠀\nНа экскурсии увидим:\n⠀\n🔸 Центры церковной благотворительности\n🔸 Одну из самых дорогих усадеб Москвы 19 века\n🔸 Последний приют знаменитого художника\n🔸 Хитровскую площадь\n🔸 Бессердечное милосердие\n⠀\nУзнаем:\n⠀\n🔸 Как финансировались благотворительные организации 18-20 вв\n🔸 Точный адрес места «у черта на Кулишках»\n🔸 Что объединяет А.С. Пушкина\, «мертвые души» и развитие российской педиатрии\n🔸 О пособии бедным невестам\n🔸 Какая связь между царской семьей и лагерем Артек\nИ многое другое;)\n⠀\nДата: 29.04.24\nВремя: 13.00\nПродолжительность экскурсии: 2 ч\nМесто сбора: Памятник Кириллу и Мефодию (метро Китай-город\, выход номер 10).\nМесто завершения экскурсии: Собор Петра и Павла (также в пешей доступности от м. Китай-город)\n⠀\nОбычная цена: 1200 р/чел \nНО! В честь первой экскурсии сезона действует супер приятная цена: 600 р/чел.+ 10% скидка на посещение следующей экскурсии\nДля записи на экскурсию напишите пожалуйста мне в сообщения)\n⠀\nЭкскурсия проходит на улице. Пожалуйста учитывайте погодные условия при выборе одежды и удобной обуви. \n 
URL:https://xn--b1aghaiacprbijlcgx0o.xn--p1ai/event/3166
LOCATION:Памятник Кириллу и Мефодию (метро Китай-город\, выход номер 10)
CATEGORIES:Telegram
END:VEVENT
BEGIN:VEVENT
DTSTART;TZID=Europe/Moscow:20240429T120000
DTEND;TZID=Europe/Moscow:20240429T140000
DTSTAMP:20260421T151613
CREATED:20240423T182723Z
LAST-MODIFIED:20240423T182942Z
UID:3205-1714392000-1714399200@xn--b1aghaiacprbijlcgx0o.xn--p1ai
SUMMARY:Юлия MUMMY ZU. По Твербулю с гитарой: экскурсия-концерт
DESCRIPTION:По Твербулю с гитарой: экскурсия-концерт\n\n🎸 Да\, мы будем ходить по Тверскому бульвару и петь песни! \nЭто самая легкая из всех прогулок\, наполненная литературными анекдотами\, любовными драмами\, поэзией\, рассказами о великих женщинах\, утопичных проектах\, театральными сплетнями и всяческими милыми байками. \n🎵 А в репертуаре романсы 19-го века\, песни на стихи Сергея Есенина\, произведения Булата Окуджавы\, московский рок-н-ролл\, песни андеграундных исполнителей и прославленных ВИА\, и даже дворовые народные песни. \n❤️Эта прогулка про то\, что жизнь прекрасна! \n🗓️ 29/04\n⏰ 12.00\n💰 1500 р/чел \nС нами волшебный термос! \nЗапись https://t.me/mummy_zu
URL:https://xn--b1aghaiacprbijlcgx0o.xn--p1ai/event/3205
LOCATION:Будет известно после записи
CATEGORIES:Telegram
END:VEVENT
BEGIN:VEVENT
DTSTART;TZID=Europe/Moscow:20240428T170000
DTEND;TZID=Europe/Moscow:20240428T184500
DTSTAMP:20260421T151613
CREATED:20240421T134653Z
LAST-MODIFIED:20240421T134653Z
UID:3162-1714323600-1714329900@xn--b1aghaiacprbijlcgx0o.xn--p1ai
SUMMARY:Мария Гаврилина. Театральная Москва — зеркало социальной истории
DESCRIPTION:Весь мир — театр! \nВыражение верно и в обратную сторону. Театр — это проекция мира. \nНа этой экскурсии мы увидим\, как в истории московских театров отражается вся история страны\, как состояние общества и личные амбиции создавали в России новое искусство. \n🔹 узнаем как театр в Москве прошёл путь от частной инициативы до государственной организации и обратно \n🔹увидим\, где появился первый театр в Москве\nузнаем\, почему разорялись частные инициативы \n🔹познакомимся с людьми\, которые сделали театр таким\, каким мы его знаем сейчас
URL:https://xn--b1aghaiacprbijlcgx0o.xn--p1ai/event/3162
LOCATION:Колоннада Большого театра
CATEGORIES:Telegram
END:VEVENT
BEGIN:VEVENT
DTSTART;TZID=Europe/Moscow:20240428T140000
DTEND;TZID=Europe/Moscow:20240428T163000
DTSTAMP:20260421T151613
CREATED:20240422T184112Z
LAST-MODIFIED:20240422T184112Z
UID:3180-1714312800-1714321800@xn--b1aghaiacprbijlcgx0o.xn--p1ai
SUMMARY:Ольга Зотова. Учебная экскурсия по маршруту аттестации: Волхонка\, Пречистенка\, Остоженка
DESCRIPTION:Учебная экскурсия по одному из маршрутов аттестации.\nПосмотрим усадьбы и доходные дома аристократического района\, поднимемся на смотровую площадку\, будем тренировать методы показа\, разгадывать архитектурные загадки.\nЭкскурсия с радиогидами.\nНачало м. Кропоткинская выход 1\nОкончание м. Кропоткинская\nПродолжительность 2\,5 часа\nСтоимость 1200 рублей
URL:https://xn--b1aghaiacprbijlcgx0o.xn--p1ai/event/3180
LOCATION:м. Кропоткинская\, выход 1
CATEGORIES:Telegram
ORGANIZER;CN="%D0%9E%D0%BB%D1%8C%D0%B3%D0%B0 %D0%97%D0%BE%D1%82%D0%BE%D0%B2%D0%B0":MAILTO:olga@zotova.org
END:VEVENT
BEGIN:VEVENT
DTSTART;TZID=Europe/Moscow:20240428T140000
DTEND;TZID=Europe/Moscow:20240428T151500
DTSTAMP:20260421T151613
CREATED:20240423T042419Z
LAST-MODIFIED:20240423T064010Z
UID:3184-1714312800-1714317300@xn--b1aghaiacprbijlcgx0o.xn--p1ai
SUMMARY:Иван Брыкало. «Московское подворье Валаамского монастыря: по стопам валаамских новомучеников»
DESCRIPTION:Приглашаю вас на авторскую экскурсию  «Московское подворье Валаамского монастыря: по стопам валаамских новомучеников» \nВалаамский монастырь. Русский Афон. Тихая обитель на севере России. Веет чем-то таинственный\, тихим\, святым\, неправда ли? \nОднако не все могут посетить это дивное место\, но в Москве есть “островок валаамского благочестия” – подворье монастыря. \nМы с вами пройдём по 1-ой и 2-ой Тверской-Ямской улицам и познакомимся с  историей Валаамского подворья\, но главное мы узнаем о судьбе обители в XX веке в эпоху гонений\, откроем подвиг валаамских новомучеников\, пройдём по их следам. \nНа экскурсии вы узнаете: \n+ как белорусский крестьянин стал православным святым;\n+ почему место\, где сейчас жилой дом\, считается колыбелью подворья;\n+ что связывает первого убитого большевиками архиерея с Валаамом;\n+ кто возглавлял братию в страшные для Церкви времена;\n+ что сделал Борис Николаевич Ельцин с игуменом\, который рассказал про него анекдот. \n⏰Продолжительность: предположительно 1 час 15 минут \n📌 Где начинаем: м. “Белорусская”\, сквер у памятника Максиму Горькому около Белорусского вокзала; \n📌 Где заканчиваем: перекрёсток 1-ой Тверской-Ямской улицы и переулка Александра Невского. \nОрганизационные моменты:\nДля записи (до 13:00 28. 04) и при возникновении вопросов пишите в  telegram @ivan_brykalo \n \n 
URL:https://xn--b1aghaiacprbijlcgx0o.xn--p1ai/event/3184
LOCATION:Сквер около памятника Максиму Горькому рядом с Белорусским вокзалом.
CATEGORIES:Telegram
ATTACH;FMTTYPE=image/jpeg:https://xn--b1aghaiacprbijlcgx0o.xn--p1ai/wp-content/uploads/2024/04/IMG_20240423_085045_020.jpg
END:VEVENT
BEGIN:VEVENT
DTSTART;TZID=Europe/Moscow:20240426T190000
DTEND;TZID=Europe/Moscow:20240426T210000
DTSTAMP:20260421T151613
CREATED:20240422T082442Z
LAST-MODIFIED:20240422T082602Z
UID:3177-1714158000-1714165200@xn--b1aghaiacprbijlcgx0o.xn--p1ai
SUMMARY:Наталья Попова. Километры. Милая Лялина
DESCRIPTION:Идём гулять по дворам городских усадеб и тихим переулкам\, где будем знакомиться с историей и радоваться приветам из прошлого. А по пути расскажем:\n– какая красота скрывается от нас в особняке Морозова с атлантами\,\n– где жил «отец» советской научно-фантастической литературы\,\n– откуда пошли все эти книги «Лев Толстой в одном томе»\n– и какое отношение ко всему перечисленному имеют художник Врубель\, поэт Пушкин\, историк Погодин\, писатель Гайдар и другие.
URL:https://xn--b1aghaiacprbijlcgx0o.xn--p1ai/event/3177
LOCATION:Метро «Чкаловская»
CATEGORIES:Telegram
END:VEVENT
BEGIN:VEVENT
DTSTART;TZID=Europe/Moscow:20240426T180000
DTEND;TZID=Europe/Moscow:20240426T201500
DTSTAMP:20260421T151613
CREATED:20240425T071404Z
LAST-MODIFIED:20240425T071404Z
UID:3262-1714154400-1714162500@xn--b1aghaiacprbijlcgx0o.xn--p1ai
SUMMARY:Екатерина Козловская. Экскурсия «В окрестностях Мясницкой: десять писем о Москве и ее жителях»
DESCRIPTION:Приглашаю пройти со мной сквозь несколько веков московской истории и заглянуть в документы государственной важности и тайные личные записки. \nВо время прогулки вы узнаете:\n– как в старину отправлялись письма и почему Мясницкая считается главной почтовой улицей страны;\n– почему среди мясников и огородников в один прекрасный день стала селиться московская аристократия;\n– кто из великих писателей любил в переписке посплетничать о светских скандалах;\n– где на самом деле находилось то самое Лукоморье\, у которого Пушкин познакомился с ученым котом;\n– чем производители сельскохозяйственного инвентаря помогли Кремлевской башне;\n– как театр семнадцатого века стал спасением для светила медицины;\n– какой была желтая пресса прошлых времён – и как однажды в ней отразилась эпидемия любовных самоубийств;\n– как благодаря безответной любви неизвестный художник превратился в знаменитого поэта;\n– почему один рекламный просчёт московского торговца обернулся великой удачей – и как столица при этом получила одну из своих архитектурных жемчужин. \nВ конце экскурсии вас ждёт небольшой сюрприз и возможность оставить на память себе и потомкам свой собственный маленький исторический артефакт
URL:https://xn--b1aghaiacprbijlcgx0o.xn--p1ai/event/3262
LOCATION:На улице у метро Красные ворота (выход номер 1)
CATEGORIES:Telegram
END:VEVENT
BEGIN:VEVENT
DTSTART;TZID=Europe/Moscow:20240424T200000
DTEND;TZID=Europe/Moscow:20240424T213000
DTSTAMP:20260421T151613
CREATED:20240424T110433Z
LAST-MODIFIED:20240424T110948Z
UID:3208-1713988800-1713994200@xn--b1aghaiacprbijlcgx0o.xn--p1ai
SUMMARY:Союз экскурсоводов. Три поколения семьи Цветаевых. Музей семьи Цветаевых в Ново-Талицах
DESCRIPTION:О семье Цветаевых расскажет\nШведова Елена Александровна\, научный сотрудник\, и. о. главного хранителя. \nЗдесь все начиналось. Здесь истоки побед и свершений. Здесь хранится цветаевский дух. Здесь рассказывают не только о Марине Ивановне. \n📍 Вконтакте https://vk.com/muzey_cvetaevyh\n \n📍 Межрегиональный Союз Экскурсоводов\nСайт: https://excursovodrossii.ru/\nYouTube: / @user-ru8ex1id1h \nTelegram: https://t.me/excursovodrossii\nВКонтакте: https://vk.com/public197536453\nОдноклассники: https://ok.ru/group/70000003791451\nДзен: https://dzen.ru/excurs \n📍 Информационный спонсор\nООО Центр Туризма Остров – https://ostrovtourism.ru/ Школьные и корпоративные туры Прием в Москве
URL:https://xn--b1aghaiacprbijlcgx0o.xn--p1ai/event/3208
LOCATION:https://youtube.com/live/aEo5vaIIFHc
CATEGORIES:Telegram
END:VEVENT
BEGIN:VEVENT
DTSTART;TZID=Europe/Moscow:20240421T143000
DTEND;TZID=Europe/Moscow:20240421T170000
DTSTAMP:20260421T151613
CREATED:20240418T060819Z
LAST-MODIFIED:20240418T061210Z
UID:3119-1713709800-1713718800@xn--b1aghaiacprbijlcgx0o.xn--p1ai
SUMMARY:Галина Щепеткова. Московский Пер Лашез или в гости к старым знакомым
DESCRIPTION:☝️Наверняка многие слышали об уникальном кладбище в Париже Пер Лашез\, куда местные жители ходят гулять с колясками\, да и просто посидеть в тишине\, отдыхая от городской суеты. \n☝️В Москве есть ничуть не хуже – очаровательный по спокойствию и ухоженности и уникальный по архитектуре Введенский некрополь или Старое немецкое кладбище\, которому уже больше 250 лет! \nЗдесь переплетаются люди\, судьбы и застывают в камне… \n☝️Хочу пригласить вас на прогулку в гости к нашим старым знакомым\, о которых мы много говорили на экскурсиях\, да и просто погулять по парку\, пошуршать листвой\, поговорить о знаменитых личностях и не только\, увидеть творения гениев архитектуры Шехтеля и Кекушева и даже побывать во Франции (в прямом смысле этого слова). \n☝️Кондитер Эйнем\, Люсьен Оливье\, Карл Феррейн\, доктор Гааз\, Карл Феррейн\, сам Лефорт и Патрик Гордон и многие другие\, а также картины\, мозаики\, скульптуры\, часовни и двери…. закрытые и не только…
URL:https://xn--b1aghaiacprbijlcgx0o.xn--p1ai/event/3119
LOCATION:ст.м.Лефортово
CATEGORIES:Telegram
END:VEVENT
BEGIN:VEVENT
DTSTART;TZID=Europe/Moscow:20240421T110000
DTEND;TZID=Europe/Moscow:20240421T133000
DTSTAMP:20260421T151613
CREATED:20240420T062244Z
LAST-MODIFIED:20240420T065030Z
UID:3123-1713697200-1713706200@xn--b1aghaiacprbijlcgx0o.xn--p1ai
SUMMARY:Ольга Зотова. Кольцо центральных площадей. Учебная экскурсия
DESCRIPTION:Учебная экскурсия по одному из маршрутов аттестации. Посмотрим четыре площади\, поднимемся на смотровую площадку\, будем тренировать методы показа\, разгадывать архитектурные загадки. \nЭкскурсия с радиогидами. \nНачало м. Библиотека имени Ленина выход 4 \nОкончание м. Площадь Революции \nПродолжительность 2\,5 часа \nСтоимость 1000 рублей
URL:https://xn--b1aghaiacprbijlcgx0o.xn--p1ai/event/3123
LOCATION:М. Александровский сад\, м. Библиотека им. Ленина\, выход 4
CATEGORIES:Telegram
ORGANIZER;CN="%D0%9E%D0%BB%D1%8C%D0%B3%D0%B0 %D0%97%D0%BE%D1%82%D0%BE%D0%B2%D0%B0":MAILTO:olga@zotova.org
END:VEVENT
BEGIN:VEVENT
DTSTART;TZID=Europe/Moscow:20240420T155900
DTEND;TZID=Europe/Moscow:20240420T175900
DTSTAMP:20260421T151613
CREATED:20240416T072745Z
LAST-MODIFIED:20240416T072745Z
UID:3098-1713628740-1713635940@xn--b1aghaiacprbijlcgx0o.xn--p1ai
SUMMARY:«75 павильон. Регионы России»
DESCRIPTION:Приглашаю на бесплатную экскурсию по международной выставке-форуму «Россия»\, проходящей на ВДНХ. Мы посетим 75 павильон\, где представлены  все субъекты Российской Федерации\, и вы сможете ощутить величие нашей многонациональной Родины.
URL:https://xn--b1aghaiacprbijlcgx0o.xn--p1ai/event/3098
LOCATION:У Гостевого центра ВДНХ
CATEGORIES:Telegram
END:VEVENT
BEGIN:VEVENT
DTSTART;TZID=Europe/Moscow:20240420T130000
DTEND;TZID=Europe/Moscow:20240420T150000
DTSTAMP:20260421T151613
CREATED:20240418T055543Z
LAST-MODIFIED:20240418T055543Z
UID:3117-1713618000-1713625200@xn--b1aghaiacprbijlcgx0o.xn--p1ai
SUMMARY:Оксана Артюшина. Новодевичий монастырь - обитель царских особ
DESCRIPTION:*Новодевичий монастырь – обитель царских особ*\nНоводевичий монастырь является уникальным памятником русской истории и культуры\, включён в список мирового наследия ЮНЕСКО и является действующей обителью.\nВо время прогулки по монастырю мы поговорим о том\, что родиться царской дочерью было не очень хорошим уделом. О том\, кого именно Новодевичий монастырь принимал в своих кельях. Поговорим о царевне Софье и её непростой судьбе.\nОсмотрим Стрелецкую караульню – то место\, где содержалась царевна – а также поговорим о традиционном рукоделии насельниц монастыря.\nМы пройдём по территории и обязательно зайдем в один из действующих храмов.\nОсмотрим монастырский некрополь (вернее то\, что от него осталось) и вспомним Дениса Давыдова\, Алексея Брусилова\, Ивана Лажечникова и других…\n***\nУ нас пока ещё будет уникальная возможность осмотреть церковь Амвросия Медиоланского – домовый храм Ирины Годуновой\, который обычно закрыт для посещения!\n***\nИногда бывает можно попасть на стену! Стоимость подъема – 300 рублей\, оплачивается дополнительно. Подъем – с сотрудником монастыря по окончании нашей экскурсии. Возможность подъема зависит от проведения ремонтных работ.\n***\nДлительность экскурсии – не менее 2 часов
URL:https://xn--b1aghaiacprbijlcgx0o.xn--p1ai/event/3117
LOCATION:Вход на территорию Новодевичьего монастыря
CATEGORIES:Telegram
END:VEVENT
BEGIN:VEVENT
DTSTART;TZID=Europe/Moscow:20240419T150000
DTEND;TZID=Europe/Moscow:20240419T164500
DTSTAMP:20260421T151613
CREATED:20240418T055517Z
LAST-MODIFIED:20240418T055517Z
UID:3114-1713538800-1713545100@xn--b1aghaiacprbijlcgx0o.xn--p1ai
SUMMARY:Галина Щепеткова. ТАЙНЫ АВИАЦИИ+ тренажёр самолёта
DESCRIPTION:✈️На экскурсии мы окунёмся в мир авиации\, узнаем то\, что скрыто от посторонних глаз  \n✈️На экскурсии увидите вблизи реактивный двигатель и сможете детально его изучить и сфотографировать \n✈️Узнаете\,  где готовят бортпроводников и что входит в их обязанности \n✈️ Увидите настоящую кабину самолёта\, полетаете на тренажёре\, пообщаетесь с настоящими лётчиками! \n✈️ Попробуете себя в работе авиадиспетчера и научитесь держать связь с экипажем \n✈️ Оденетесь в форму действующих пилотов и бортпроводников и сделаете неограниченное количество замечательных фото!  🌥️🌥️😍 \nЭкскурсия проходит в помещении\n1ч 45 мин \n*Отзыв* :\n🙂Детям и взрослым понравилось\, очень хвалили экскурсию. Дети попробовали тренажёры и поработали стюардессами/стюардами  👍
URL:https://xn--b1aghaiacprbijlcgx0o.xn--p1ai/event/3114
LOCATION:ул.Большая Внуковская\, 2
CATEGORIES:Telegram
END:VEVENT
END:VCALENDAR