BEGIN:VCALENDAR
VERSION:2.0
PRODID:-//Календарь экскурсий и мероприятий в Москве - ECPv6.14.1//NONSGML v1.0//EN
CALSCALE:GREGORIAN
METHOD:PUBLISH
X-ORIGINAL-URL:https://xn--b1aghaiacprbijlcgx0o.xn--p1ai
X-WR-CALDESC:Мероприятия для Календарь экскурсий и мероприятий в Москве
REFRESH-INTERVAL;VALUE=DURATION:PT1H
X-Robots-Tag:noindex
X-PUBLISHED-TTL:PT1H
BEGIN:VTIMEZONE
TZID:Europe/Moscow
BEGIN:STANDARD
TZOFFSETFROM:+0300
TZOFFSETTO:+0300
TZNAME:MSK
DTSTART:20240101T000000
END:STANDARD
END:VTIMEZONE
BEGIN:VEVENT
DTSTART;TZID=Europe/Moscow:20240430T110000
DTEND;TZID=Europe/Moscow:20240430T130000
DTSTAMP:20260422T130626
CREATED:20240425T053434Z
LAST-MODIFIED:20240425T053434Z
UID:3255-1714474800-1714482000@xn--b1aghaiacprbijlcgx0o.xn--p1ai
SUMMARY:Ольга Онищенко. Экскурсия "Жили-были в Камергерском"
DESCRIPTION:Жили-были в Камергерском\nКамергерский переулок  находится недалеко от Кремля и известен  с XVI века\, а в конце прошлого столетия стал  уютным пешеходным пространством. Но слава переулка – это люди. Здесь жили – были  писатели и поэты\, художники\, музыканты\, архитекторы\, актеры и режиссеры. На экскурсии мы поговорим о деятелях культуры\, чья жизнь и творчество связано с этим историческим местом Москвы.\nВо время экскурсии вы увидите:\n🔹Театр\, в котором родился драматург Чехов\,\n🔹Дом писательского  кооператива\,\n🔹Развалины французской гостиницы\,\n🔹Монастырские кельи\, перестроенные в доходные дома\,\n🔹Усадьбу XVII века.\nА еще вы узнаете:\n✔️У кого на балконе выросла ива\,\n✔️Что случилось с извозчиком\, который встретился в ночи с Мефистофелем\,\n✔️Где нашлась потерянная рукопись\,\n✔️Увидите отражение в зеркале поэта Серебряного века.\nПродолжительность: 2 ч\nГде начинаем: Центральный подъезд МХТ им. Чехова\nГде заканчиваем: Большая Дмитровка 7/5\nОрганизационные моменты: экскурсия проходит на улице\, одевайтесь по погоде
URL:https://xn--b1aghaiacprbijlcgx0o.xn--p1ai/event/3255
LOCATION:Камергерский
CATEGORIES:Telegram
END:VEVENT
BEGIN:VEVENT
DTSTART;TZID=Europe/Moscow:20240430T120000
DTEND;TZID=Europe/Moscow:20240430T140000
DTSTAMP:20260422T130626
CREATED:20240425T074411Z
LAST-MODIFIED:20240425T074411Z
UID:3264-1714478400-1714485600@xn--b1aghaiacprbijlcgx0o.xn--p1ai
SUMMARY:Полина Трояновская. "Архитектура+кофе. Греция" лекция с дегустацией
DESCRIPTION:30 апреля (это нерабочий вторник) Максим Лучинин и Полина Трояновская проведут очередной лекторий на стыке архитектуры и кофе.\n“Архитектура+кофе. Греция”. \n✒ Максим расскажет о вкладе древних греков в мировую архитектурную копилку и покажет\, какие сюжеты античной Эллады можно найти в сегодняшней Москве. \n☕ А Полина о том\, что дала миру Греция в плане кофе. Как всегда\, с дегустацией напитка\, который пришел из страны. Он не очень привычный – хотя с каждым годом знаком всё больше\, зато классный\, летний\, и его легко повторить дома.
URL:https://xn--b1aghaiacprbijlcgx0o.xn--p1ai/event/3264
LOCATION:Бауманская
CATEGORIES:Telegram
END:VEVENT
BEGIN:VEVENT
DTSTART;TZID=Europe/Moscow:20240430T140000
DTEND;TZID=Europe/Moscow:20240430T160000
DTSTAMP:20260422T130626
CREATED:20240424T170015Z
LAST-MODIFIED:20240424T170015Z
UID:3234-1714485600-1714492800@xn--b1aghaiacprbijlcgx0o.xn--p1ai
SUMMARY:Самойлова Лариса. Московские"Грязь" и "Болото"
DESCRIPTION:Одна из самых красивых экскурсий по Москве. Мы прогуляемся вокруг Кремля с необычной стороны: посмотрим на Кремль с реки. Пройдем по Б.Москворецкому мосту в сторону Замоскворечья и обратно по Б.Каменному.  Исторические переправы как части древних торговых путей из Серпухова в Тверь и др. Узнаем как и почему из нежилого района города\, где только сады\, бани\, кулачные бои и редкие казни\, Балчуг превращается в  шикарный купеческий район. На этой экскурсиивас ждут лучшие виды города: Красная площадь\, Кремль с Большого Москворецкого моста\, панорама парка Зарядье\, Высотка на Котельнической набережной – самая шикарная из жилых сталинских высоток\,гостиница Балчуг и новостройки последних лет. А ещё набережная Обводного канала – Болотная улица и  Репинский сквер\, поговорим о непростом для восприятия памятнике М. Шемякина «Детям\, страдающим от пороков взрослых»\, полюбуемся  памятником М. Манизера И. Е. Репину\, Лужковым мостом\, узнаем историю одного из самых мистических домов – Дома на набережной. С Большого Каменного моста найдем самые узнаваемые и растиражированные ракурсы Кремля и Храма Христа Спасителя.
URL:https://xn--b1aghaiacprbijlcgx0o.xn--p1ai/event/3234
LOCATION:Красная площадь. Между Спасской башней и Храмом Василия Блаженного
CATEGORIES:Telegram
END:VEVENT
BEGIN:VEVENT
DTSTART;TZID=Europe/Moscow:20240430T160000
DTEND;TZID=Europe/Moscow:20240430T180000
DTSTAMP:20260422T130626
CREATED:20240425T071341Z
LAST-MODIFIED:20240425T071341Z
UID:3258-1714492800-1714500000@xn--b1aghaiacprbijlcgx0o.xn--p1ai
SUMMARY:Евгений Богданов. Экскурсия "Чистопрудный бульвар архитектурные чудачества.
DESCRIPTION:Эта экскурсия вокруг Чистых прудов начинает новый цикл пешеходных прогулок «Истории Бульварного кольца». Во второй половине XVI века здесь были возведена крепость Белого города. Сегодня об этих стенах и въездных воротах нам напоминает зелёная подкова\, которая состоит из десяти бульваров\, разбитых на месте разобранной цитадели. \nВ этом древнем районе Москвы есть множество исторических памятников. Но мы обратим наше внимание на самые необычные из них. Мы полюбуемся на «Самый красивый дом Москвы» и поговорим о «Самом уродливом» доме. Мы увидим «Дом со зверями»\, «Дом яйцо»\, «Дом-китайскую пагоду». Узнаем\, где Грибоедов писал свое знаменитое произведение «Горе от ума»\, где останавливалась Татьяна Ларина\, как снимали убийство Васи Векшина в фильме «Место встречи изменить нельзя»\, почему Чистые пруды когда-то называли «Погаными»\, а потом – «Детскими» и многое другое! А самое главное – мы сможем погрузиться в уникальную атмосферу тихих переулков патриархальной и необыкновенно романтической Москвы.
URL:https://xn--b1aghaiacprbijlcgx0o.xn--p1ai/event/3258
LOCATION:Метро Чистые пруды\, у памятника Грибоедову
CATEGORIES:Telegram
END:VEVENT
END:VCALENDAR