BEGIN:VCALENDAR
VERSION:2.0
PRODID:-//Календарь экскурсий и мероприятий в Москве - ECPv6.14.1//NONSGML v1.0//EN
CALSCALE:GREGORIAN
METHOD:PUBLISH
X-WR-CALNAME:Календарь экскурсий и мероприятий в Москве
X-ORIGINAL-URL:https://xn--b1aghaiacprbijlcgx0o.xn--p1ai
X-WR-CALDESC:Мероприятия для Календарь экскурсий и мероприятий в Москве
REFRESH-INTERVAL;VALUE=DURATION:PT1H
X-Robots-Tag:noindex
X-PUBLISHED-TTL:PT1H
BEGIN:VTIMEZONE
TZID:Europe/Moscow
BEGIN:STANDARD
TZOFFSETFROM:+0300
TZOFFSETTO:+0300
TZNAME:MSK
DTSTART:20240101T000000
END:STANDARD
END:VTIMEZONE
BEGIN:VEVENT
DTSTART;TZID=Europe/Moscow:20240504T140000
DTEND;TZID=Europe/Moscow:20240504T160000
DTSTAMP:20260421T181658
CREATED:20240420T174431Z
LAST-MODIFIED:20240426T054101Z
UID:3127-1714831200-1714838400@xn--b1aghaiacprbijlcgx0o.xn--p1ai
SUMMARY:Ирина Кувикова. Авторская пешеходная экскурсия «Свадьба в большом городе»
DESCRIPTION:Приглашаю вас на авторскую экскурсию «Свадьба в большом городе» \n💌💌💌💌💌💌💌💌💌💌💌💌💌💌 \nЧто заставляло сердца москвичей XVIII и XIX веков трепетать\, а их кошельки пустеть ?\nЗнакомство\, смотрины\, сговор и помолвка — все это путь к свадьбе. Каждый шаг к созданию семьи был связан с вековыми традициями и обычаями городских жителей\nДекорациями для свадебных историй всегда были здания на улицах и переулках Москвы. \nНа нашей экскурсии мы прогуляемся по живописному району Замоскворечья и узнаем\, как менялась архитектура города\, а вместе с ней масштаб свадебных хлопот. \nНа экскурсии вы увидите: \n✓ место для дворянских ярмарок невест\n✓выразительное узорочье старинного храма\n✓купеческие особняки\n✓один из деревянных домов в Москве\n✓усадьбу под этажами эпох \nНа экскурсии вы узнаете: \n‣почему московские балы становились началом новых отношений\n‣из каких этапов состояла подготовка к венчанию\n‣причины для свадеб представителей разных сословий «от финансового благополучия до взаимных чувств»\n‣как связаны изменения архитектурной моды и свадебные традиции\n‣истории замоскворецкий семей из прошедших веков \n⏰Продолжительность: 2 часа \n📍 Где начинаем: м. “Третьяковская”\, фонтан Искусств\, Большой Толмачёвский переулок \n📍 Где заканчиваем: Малая Ордынка д.24 \nОрганизационные моменты:\n• во время экскурсии мы используем радиогиды\, к которым подключаются наушники\, выданные гидом. Для удобства вы можете использовать собственные проводные наушники
URL:https://xn--b1aghaiacprbijlcgx0o.xn--p1ai/event/3127
LOCATION:Метро Третьяковская\, фонтан Искусств\, Большой Толмачёвский переулок
CATEGORIES:Telegram
END:VEVENT
END:VCALENDAR