BEGIN:VCALENDAR
VERSION:2.0
PRODID:-//Календарь экскурсий и мероприятий в Москве - ECPv6.14.1//NONSGML v1.0//EN
CALSCALE:GREGORIAN
METHOD:PUBLISH
X-ORIGINAL-URL:https://xn--b1aghaiacprbijlcgx0o.xn--p1ai
X-WR-CALDESC:Мероприятия для Календарь экскурсий и мероприятий в Москве
REFRESH-INTERVAL;VALUE=DURATION:PT1H
X-Robots-Tag:noindex
X-PUBLISHED-TTL:PT1H
BEGIN:VTIMEZONE
TZID:Europe/Moscow
BEGIN:STANDARD
TZOFFSETFROM:+0300
TZOFFSETTO:+0300
TZNAME:MSK
DTSTART:20240101T000000
END:STANDARD
END:VTIMEZONE
BEGIN:VEVENT
DTSTART;TZID=Europe/Moscow:20240505T150000
DTEND;TZID=Europe/Moscow:20240505T170000
DTSTAMP:20260422T052944
CREATED:20240426T071902Z
LAST-MODIFIED:20240426T072039Z
UID:3272-1714921200-1714928400@xn--b1aghaiacprbijlcgx0o.xn--p1ai
SUMMARY:Никольская Ольга. На чай с Ди Каприо
DESCRIPTION:На этой экскурсии мы поговорим о дореволюционных чаеторговцах и зайдём в чайный дом — настоящую китайскую шкатулку. Встретим Леонардо Ди Каприо (ну или его двойника😉). Увидим дом-яйцо и дом с печальным рыцарем.\nУгощу чаем компании Высоцкий и К\, известной с 19 в. и покажу коробочку чаеторговцев\, которой больше ста лет. Зайдем в особняк 1887 г. постройки. Когда-то он принадлежал фабриканту\, имя которого не сходило с первых полос газеты Московский листок в 1910 году. По какой причине? Все расскажу!\nВас ждет очень яркая и насыщенная экскурсия!
URL:https://xn--b1aghaiacprbijlcgx0o.xn--p1ai/event/3272
LOCATION:Встреча перед театром А. А. Калягина Et Cetera м. Тургеневская/ Сретенский бульвар выход 3\,4
CATEGORIES:Telegram
END:VEVENT
END:VCALENDAR