BEGIN:VCALENDAR
VERSION:2.0
PRODID:-//Календарь экскурсий и мероприятий в Москве - ECPv6.14.1//NONSGML v1.0//EN
CALSCALE:GREGORIAN
METHOD:PUBLISH
X-WR-CALNAME:Календарь экскурсий и мероприятий в Москве
X-ORIGINAL-URL:https://xn--b1aghaiacprbijlcgx0o.xn--p1ai
X-WR-CALDESC:Мероприятия для Календарь экскурсий и мероприятий в Москве
REFRESH-INTERVAL;VALUE=DURATION:PT1H
X-Robots-Tag:noindex
X-PUBLISHED-TTL:PT1H
BEGIN:VTIMEZONE
TZID:Europe/Moscow
BEGIN:STANDARD
TZOFFSETFROM:+0300
TZOFFSETTO:+0300
TZNAME:MSK
DTSTART:20240101T000000
END:STANDARD
END:VTIMEZONE
BEGIN:VEVENT
DTSTART;TZID=Europe/Moscow:20240517T140000
DTEND;TZID=Europe/Moscow:20240517T160000
DTSTAMP:20260421T181712
CREATED:20240424T144800Z
LAST-MODIFIED:20240424T144800Z
UID:3225-1715954400-1715961600@xn--b1aghaiacprbijlcgx0o.xn--p1ai
SUMMARY:Оксана Артюшина. Немцы на службе государства Российского
DESCRIPTION:“Немцы на службе государства Российского” (тематическая экскурсия)\nЧто общего между кандалами\, мукой “Сокольническая”\, фабрикой “Красный Октябрь”\, аптекой на Никольской и российским футболом? Их немецкие создатели\, жившие и работавшие в России и нашедшие последний приют на московском иноверческом кладбище.\nО них\, а также о многих других я расскажу на моей авторской экскурсии “Введенский некрополь. Немцы на службе Государства Российского”.\nЗа 2 часа Вы узнаете\, какая семья могла бы сегодня возглавить список Forbes; какой склеп называют “Вампиркой”; где была чудодейственная статуя Черного Христа\, а также какую статую считают чудодейственной сейчас; кого оплакивает Пьета; где можно загадать желание\, и оно обязательно сбудется.\nПо своему первому высшему образованию я – лингвист-германист. А значит\, моя любовь к немцам и немецкому сильна и длится не одно десятилетие.\nПредварительная запись обязательна!
URL:https://xn--b1aghaiacprbijlcgx0o.xn--p1ai/event/3225
LOCATION:Станция метро Лефортово\, единственный выход
CATEGORIES:Telegram
END:VEVENT
BEGIN:VEVENT
DTSTART;TZID=Europe/Moscow:20240517T173000
DTEND;TZID=Europe/Moscow:20240517T183000
DTSTAMP:20260421T181712
CREATED:20240505T125638Z
LAST-MODIFIED:20240514T201415Z
UID:3298-1715967000-1715970600@xn--b1aghaiacprbijlcgx0o.xn--p1ai
SUMMARY:Алла Лисицина. Лекция "История предпринимательства в лицах"
DESCRIPTION:Где: Музей истории предпринимательства и меценатства\, м. Октябрьская. \nСтоимость: 1200 руб. \nБронирование места\, после оплаты. \nЛектор: Алла Лисицина\, историк и зам.директора музея. \nЗапись: @Olga_Ivanova_Mos Whats’s up: 89161174876
URL:https://xn--b1aghaiacprbijlcgx0o.xn--p1ai/event/3298
CATEGORIES:Telegram,Лекции,Меценаты,Москва еврейская,Патриотические экскурсии,Сборная экскурсия,Экскурсии для взрослых,Экскурсии днем в будни,Экскурсия 12+
END:VEVENT
BEGIN:VEVENT
DTSTART;TZID=Europe/Moscow:20240517T190000
DTEND;TZID=Europe/Moscow:20240517T210000
DTSTAMP:20260421T181712
CREATED:20240514T140046Z
LAST-MODIFIED:20240514T195327Z
UID:3325-1715972400-1715979600@xn--b1aghaiacprbijlcgx0o.xn--p1ai
SUMMARY:Ирина Чижевская. Варварка! От черта до Иерусалима!
DESCRIPTION:*17 Мая в 19:00 идём гулять по вечерней Варварке с Ириной Чижевской!*\nСамая древняя улица\, дорога славы Дмитрия Донского\, боярская улица\, дорога гибели Степана Разина\, духовный центр великого посада 🙏\, древний центр международной торговли 💸…. И все это об улице Варварка. Именно здесь можно ощутить средневековое дыхание Москвы 🧙‍♀\, представить как жили бояре\, которые дали России новую правящую династию\, понять феномен блаженных людей на Москве\, увидеть первое иностранное посольство. Причудливость сочетания современного парка\, классицистической архитектуры и великолепия русского узорочья. А еще узнать\, как Иван Грозный хотел создать прообраз Града Господня в Москве\, почему сидельцы царского острога любили петь🎤\, как в старину детей усыновляли и куда пропал легендарный район Зарядье\, которые когда-то был похож на маленький Израиль🕍. Чем помогала Варвара и зачем к ней «водили на расправу». Очень многое осталось от улицы\, на которой отразилась вся история нашей страны. Вспомним и легендарного черта\, его позорное изгнание😜 и легендарного Ваньку Каина\, и даже пельмени в шампанском 😱
URL:https://xn--b1aghaiacprbijlcgx0o.xn--p1ai/event/3325
LOCATION:метро “Китай-город” №10 (у памятника Кириллу и Мефодию).
CATEGORIES:Telegram
END:VEVENT
END:VCALENDAR