BEGIN:VCALENDAR
VERSION:2.0
PRODID:-//Календарь экскурсий и мероприятий в Москве - ECPv6.14.1//NONSGML v1.0//EN
CALSCALE:GREGORIAN
METHOD:PUBLISH
X-WR-CALNAME:Календарь экскурсий и мероприятий в Москве
X-ORIGINAL-URL:https://xn--b1aghaiacprbijlcgx0o.xn--p1ai
X-WR-CALDESC:Мероприятия для Календарь экскурсий и мероприятий в Москве
REFRESH-INTERVAL;VALUE=DURATION:PT1H
X-Robots-Tag:noindex
X-PUBLISHED-TTL:PT1H
BEGIN:VTIMEZONE
TZID:Europe/Moscow
BEGIN:STANDARD
TZOFFSETFROM:+0300
TZOFFSETTO:+0300
TZNAME:MSK
DTSTART:20240101T000000
END:STANDARD
END:VTIMEZONE
BEGIN:VEVENT
DTSTART;TZID=Europe/Moscow:20240518T110000
DTEND;TZID=Europe/Moscow:20240518T120000
DTSTAMP:20260422T161411
CREATED:20240517T065918Z
LAST-MODIFIED:20240517T065918Z
UID:3368-1716030000-1716033600@xn--b1aghaiacprbijlcgx0o.xn--p1ai
SUMMARY:Елена Кормилицина. знакомство с храмом Святого Духа
DESCRIPTION:Приглашаю познакомиться с уникальным местом в Москве – Храм Святого Духа на быв. Лазаревском кладбище\, где очень много мощей святых\, личные вещи прав. Иоанна Кронштадтского\, четки прп. Нектария Оптинского\, скуфья почитаемого старца архимандрита Серафима (Тяпочкина) из села Ракитное Белгородской области\, канонизация которого сейчас готовится\, книгам с собственноручными записями свт. Феофана Затворника\, личным вещам убиенного иеромонаха Василия Оптинского (Рослякова).\nНа Лазаревском кладбище были похоронены родственики Ф.Достоевского\, а что случилось с их могилой и куда перезахранили маму Ф.Достоевского узнаем на экскурсии.
URL:https://xn--b1aghaiacprbijlcgx0o.xn--p1ai/event/3368
LOCATION:м.Марьина Роща
CATEGORIES:Telegram
END:VEVENT
BEGIN:VEVENT
DTSTART;TZID=Europe/Moscow:20240518T120000
DTEND;TZID=Europe/Moscow:20240518T140000
DTSTAMP:20260422T161411
CREATED:20240516T155041Z
LAST-MODIFIED:20240516T165414Z
UID:3352-1716033600-1716040800@xn--b1aghaiacprbijlcgx0o.xn--p1ai
SUMMARY:Анастасия Ефимова. Как спрятать сердце Москвы: маскировка Кремля во время ВОВ
DESCRIPTION:Во время ВОВ стереть с лица земли Москву\, а тем более Кремль\, было приоритетной\, можно даже сказать сакральной\, задачей для Гитлера. \nКонечно же на подступах к Москве были развернуты войска противовоздушной обороны\, в самой Москве стояли зенитчики\, были истребители\, но не только это способствовало тому\, что сегодня мы можем гулять по Красной площади и любоваться древним Кремлем. \nЧтобы немецкая авиация не смогла разбомбить Кремль было принято решение о его маскировке. Долгое время информация о том\, как маскировали Кремль находилась под грифом “секретно”\, и только в 2010 году часть документов рассекретили\, поэтому мы можем об этом узнать. \nВо время экскурсии мы пройдем от Красной до Театральной площади и попробуем представить себя в роли участников тех событий. \nНа экскурсии вы увидите:\n– как именно маскировали Кремль (процесс маскировки на фото)\n– какие объекты Кремля предстояло спрятать от прицелов опытных немецких летчиков\n– уникальные фотографии военной Москвы\, сделанные американским фотографом Маргарет Бурк-Уайт\n– копии документов\, в соответствии с которыми маскировали Кремль \nА также узнаете:\n– какие способы маскировки использовали\n– как получилось так\, что на кинохронике парада 7 ноября 1941 г. Кремль не замаскирован?\n– куда на территорию Кремля все-таки упали бомбы\, и что они повредили\n– какой единственный музей работал во время войны\, и какие выставки в нем проходили\n– какие еще здания Москвы подлежали маскировке\, и что такое светомаскировка\n– куда эвакуировали тело Ленина\, и что еще отправилось вместе с ним\n– неужели Кремль был заминирован… \n  \nЗапись через телеграм @efimova_av
URL:https://xn--b1aghaiacprbijlcgx0o.xn--p1ai/event/3352
LOCATION:Красная площадь\, около памятника Минину и Пожарскому (у ограды)
CATEGORIES:Telegram
END:VEVENT
BEGIN:VEVENT
DTSTART;TZID=Europe/Moscow:20240518T120000
DTEND;TZID=Europe/Moscow:20240518T150000
DTSTAMP:20260422T161411
CREATED:20240505T125853Z
LAST-MODIFIED:20240514T195451Z
UID:3300-1716033600-1716044400@xn--b1aghaiacprbijlcgx0o.xn--p1ai
SUMMARY:Мария Махерина "От Воробьево к небоскрёбу"
DESCRIPTION:Фитнес-экскурсия по Воробьёвым горам и вокруг самого высокого университета. \nПосмотрим на Москву с самой известной смотровой и с одной секретной\, изучим МГУ с разных ракурсов и полюбуемся цветением сирени. \nСамых стойких в конце ждет прогулка до Ботанического сада\, где можно будет самостоятельно продолжить знакомство с МГУ\, продегустировать меню столовой и изучить все виды сирени в саду. \nЭкскурсовод: Мария Махерина \nПодробнее: https://klassnie.timepad.ru/event/2875148/
URL:https://xn--b1aghaiacprbijlcgx0o.xn--p1ai/event/3300
CATEGORIES:Telegram,Архитектурные экскурсии,Историческая экскурсия,История архитектуры,Патриотические экскурсии,Пешеходные экскурсии,Сборная экскурсия,Смотровая площадка,Спортивная экскурсия,Экскурсии для взрослых,Экскурсия,Экскурсия 12+,Экскурсия для детей
END:VEVENT
BEGIN:VEVENT
DTSTART;TZID=Europe/Moscow:20240518T123000
DTEND;TZID=Europe/Moscow:20240518T140000
DTSTAMP:20260422T161411
CREATED:20240515T125443Z
LAST-MODIFIED:20240515T125443Z
UID:3341-1716035400-1716040800@xn--b1aghaiacprbijlcgx0o.xn--p1ai
SUMMARY:Ольга Зотова. Семейное путешествие в Кусково
DESCRIPTION:Усадьба Кусково\, \nДорогие друзья\,\nПришло время отправиться в гости к графам Шереметевых в летнюю развлекательную резиденцию. В XVIII веке сюда съезжалась вся Москва на знаменитые Шереметьевские праздники.\n18 мая в День Музеев в 13.00 приглашаю вас на семейное Большое путешествие по усадьбе Кусково. На экскурсии мы узнаем семейные истории владельцев усадьбы\, как она была устроена\, поиграем в познавательные веселые игры\, построим лодку\, побываем в  нескольких странах и на трех континентах.\nПриходите с детьми и взрослыми!\nНачало: 12:30\, вход в усадьбу со стороны Москва\, ул. Юности\, 2.\nПродолжительность: 1\,5 часа\nСтоимость интерактивной экскурсии 1200 рублей\, стоимость двум членам одной семьи 2000 рублей. \nP.S. В честь дня Музеев вход в усадьбе проходит акция «Ночь в музее». В этот день вход на территорию и в павильоны бесплатный.\nДля посещения павильонов необходимо оформить электронные билеты:\n https://kuskovo.ru/blog/akciya_noch_v_muzee_v_usadbe_kuskovo_2024/
URL:https://xn--b1aghaiacprbijlcgx0o.xn--p1ai/event/3341
LOCATION:Москва\, ул. Юности\, д. 2\, вход на территорию музея-усадьбы Кусково
CATEGORIES:Telegram
ORGANIZER;CN="%D0%9E%D0%BB%D1%8C%D0%B3%D0%B0 %D0%97%D0%BE%D1%82%D0%BE%D0%B2%D0%B0":MAILTO:olga@zotova.org
END:VEVENT
BEGIN:VEVENT
DTSTART;TZID=Europe/Moscow:20240518T130000
DTEND;TZID=Europe/Moscow:20240518T150000
DTSTAMP:20260422T161411
CREATED:20240425T093458Z
LAST-MODIFIED:20240514T195808Z
UID:3269-1716037200-1716044400@xn--b1aghaiacprbijlcgx0o.xn--p1ai
SUMMARY:Ирина Карташова. Литературная фотопрогулка по Пастернаковскому Переделкину «БЫТЬ ЗНАМЕНИТЫМ НЕКРАСИВО»
DESCRIPTION:Литературная фотопрогулка по Пастернаковскому Переделкину\n«БЫТЬ ЗНАМЕНИТЫМ НЕКРАСИВО» \nПоселок писателей “Переделкино” навсегда связан с именем Бориса Леонидовича Пастернака. Здесь он жил с 1936 года. В Переделкино он написал несколько циклов стихов\, с 1945 по 1955 годы писал свой главный роман “Доктор Живаго”\, переводил Шекспира\, Шиллера\, Гете…\nИменно в доме на улице Павленко – 23 октября 1958 года Пастернак узнал\, что ему присуждена Нобелевская премия по литературе. Как известно\, его мировая слава обернулась жесточайшей травлей на родине. \nНа фотопрогулке вы узнаете:\n‌📷какие стихи для Пастернака были “Лучшим из когда-либо написанного”\,\n📷‌где именно была «неясная поляна» Пастернака\,\n📷‌как связан огород и творчество\, и что именно сажал Борис Леонидович?\n📷‌кто были близкими друзьями Пастернака по даче\,\n📷‌о женах и дамах сердца в судьбе Пастернака\, их влиянии на творчество гения\,\n📷‌как протекал «роман на расстоянии» с Мариной Цветаевой\,\n📷‌о конкуренции\, которая ускорила издание романа «Доктор Живаго»\,\n📷‌что делал Квентин Тарантино на могиле Пастернака в Переделкино. \nБудем слушать стихи🎙️ Бориса Пастернака и песни на его стихи📗 \nПродолжительность фотопрогулки: 2 часа. \nПосле экскурсии можно посетить дом-музей Пастернака (билеты – на сайте музея).
URL:https://xn--b1aghaiacprbijlcgx0o.xn--p1ai/event/3269
LOCATION:Станция Переделкино. МЦД4
CATEGORIES:Telegram
END:VEVENT
END:VCALENDAR