BEGIN:VCALENDAR
VERSION:2.0
PRODID:-//Календарь экскурсий и мероприятий в Москве - ECPv6.14.1//NONSGML v1.0//EN
CALSCALE:GREGORIAN
METHOD:PUBLISH
X-ORIGINAL-URL:https://xn--b1aghaiacprbijlcgx0o.xn--p1ai
X-WR-CALDESC:Мероприятия для Календарь экскурсий и мероприятий в Москве
REFRESH-INTERVAL;VALUE=DURATION:PT1H
X-Robots-Tag:noindex
X-PUBLISHED-TTL:PT1H
BEGIN:VTIMEZONE
TZID:Europe/Moscow
BEGIN:STANDARD
TZOFFSETFROM:+0300
TZOFFSETTO:+0300
TZNAME:MSK
DTSTART:20240101T000000
END:STANDARD
END:VTIMEZONE
BEGIN:VEVENT
DTSTART;TZID=Europe/Moscow:20240522T140000
DTEND;TZID=Europe/Moscow:20240522T160000
DTSTAMP:20260421T205724
CREATED:20240424T144804Z
LAST-MODIFIED:20240424T144804Z
UID:3227-1716386400-1716393600@xn--b1aghaiacprbijlcgx0o.xn--p1ai
SUMMARY:Оксана Артюшина. Ваганьково - от чумного погоста до элитного кладбища
DESCRIPTION:*Ваганьково – от чумного погоста до элитного кладбища* (обзорная экскурсия)\nВаганьково – третий по значимости некрополь нашей страны\, на котором вечный покой обрели поэты\, художники\, актёры\, спортсмены. Ваганьковское кладбище – самое большое из всех сохранившихся исторических некрополей столицы.  \nВо время двухчасовой прогулки по нему вы узнаете: \nКак хоронили Владимира Высоцкого?  \nПочему Сергея Есенина похоронили именно на Ваганьковском?  \nВ чью могилу подзахоронили Олега Даля?  \nПочему могила Андрея Миронова находится далеко от Главной аллеи?  \nВы пройдёте по тенистым аллеям древнего кладбища и увидите старинные памятники\, надмогильные сени\, скульптуры и многое другое.  \nПредварительная запись обязательна!
URL:https://xn--b1aghaiacprbijlcgx0o.xn--p1ai/event/3227
LOCATION:Вход на Ваганьковское кладбище (ближайшее метро “Ул. 1905 года”)
CATEGORIES:Telegram
END:VEVENT
BEGIN:VEVENT
DTSTART;TZID=Europe/Moscow:20240522T190000
DTEND;TZID=Europe/Moscow:20240522T190000
DTSTAMP:20260421T205724
CREATED:20240520T074603Z
LAST-MODIFIED:20240520T074603Z
UID:3379-1716404400-1716404400@xn--b1aghaiacprbijlcgx0o.xn--p1ai
SUMMARY:Ольга Никольская. На чай с Ди Каприо
DESCRIPTION:Прогуляемся по Мясницкой — главной улице некогда слободы мясников\, поговорим об известных династиях чаеторговцев. Зайдём к ним в гости и попробуем чай. Рассмотрим самые необычные здания района: дом-яйцо\, китайскую шкатулку\, особняк в стиле французского шато. Увидим скульптуру играющих с ежиком тигрят и встретим Леонардо Ди Каприо\, а еще побываем в особняке 19 века\, который переживает сейчас свои лучшие времена💚.
URL:https://xn--b1aghaiacprbijlcgx0o.xn--p1ai/event/3379
LOCATION:встреча у театра Et Cetera м. Тургеневская/ Сретенский бульвар
CATEGORIES:Telegram
END:VEVENT
END:VCALENDAR