BEGIN:VCALENDAR
VERSION:2.0
PRODID:-//Календарь экскурсий и мероприятий в Москве - ECPv6.14.1//NONSGML v1.0//EN
CALSCALE:GREGORIAN
METHOD:PUBLISH
X-WR-CALNAME:Календарь экскурсий и мероприятий в Москве
X-ORIGINAL-URL:https://xn--b1aghaiacprbijlcgx0o.xn--p1ai
X-WR-CALDESC:Мероприятия для Календарь экскурсий и мероприятий в Москве
REFRESH-INTERVAL;VALUE=DURATION:PT1H
X-Robots-Tag:noindex
X-PUBLISHED-TTL:PT1H
BEGIN:VTIMEZONE
TZID:Europe/Moscow
BEGIN:STANDARD
TZOFFSETFROM:+0300
TZOFFSETTO:+0300
TZNAME:MSK
DTSTART:20240101T000000
END:STANDARD
END:VTIMEZONE
BEGIN:VEVENT
DTSTART;TZID=Europe/Moscow:20240526T130000
DTEND;TZID=Europe/Moscow:20240526T150000
DTSTAMP:20260423T173627
CREATED:20240522T112830Z
LAST-MODIFIED:20240522T113134Z
UID:3387-1716728400-1716735600@xn--b1aghaiacprbijlcgx0o.xn--p1ai
SUMMARY:Юлия Забелина. МГУ на Воробьевых горах. Неизвестная красота
DESCRIPTION:1 сентября 1953 года на Воробьевых (тогда — Ленинских) горах был аншлаг — Московский университет переехал на новую территорию. Для студентов открылись двери общежития на 6 тысяч человек\, новые столовые\, спортивные площадки. Три факультета получили свои отдельные здания. Для биологов разбили ботанический сад. Для физиков и химиков построили отдельные лаборатории с учетом специфики оборудования.\nБольше не нужно было тесниться в маленьких корпусах на Моховой — для главного университета страны выделен новый огромный участок! А новое здание сталинской высотки почти сразу стало символом образования и науки во всем СССР. \nИ сегодня МГУ\, как правило\, ассоциируется со сталинской высоткой. Но сам университет расположен не только в ней. Факультеты\, лаборатории\, научные институты\, спортивные объекты — многие из этих зданий имеют свою особую историю и интересную архитектуру. На экскурсии мы поговорим об истории застройки территории\, сравним между собой здания разных факультетов и будем искать красоту даже в тех корпусах\, которые обычно принято ругать. \nВы увидите:\n🔶Главное здание МГУ и комплекс вокруг него\, созданный в 1950-е годы\n🔶Более поздние здания\, построенные в эпоху советского модернизма\n🔶Памятники российским ученым и единственный на территории МГУ памятник иностранцу \nВы узнаете:\n🔷Как изначально проектировалась застройка территории университета\n🔷В честь каких ученых были названы местные улицы\n🔷Как внешний вид корпуса может помочь нам понять\, что в нем находится\n🔷Почему самые «некрасивые» корпуса построили именно такими \nЭкскурсия проходит полностью по улице\, без захода в здания. \n  \nЗапись через телеграм  https://t.me/zabelina_julia
URL:https://xn--b1aghaiacprbijlcgx0o.xn--p1ai/event/3387
LOCATION:метро Ломоносовский проспект выход 5
CATEGORIES:Telegram
END:VEVENT
BEGIN:VEVENT
DTSTART;TZID=Europe/Moscow:20240526T150000
DTEND;TZID=Europe/Moscow:20240526T170000
DTSTAMP:20260423T173627
CREATED:20240505T125441Z
LAST-MODIFIED:20240516T091110Z
UID:3296-1716735600-1716742800@xn--b1aghaiacprbijlcgx0o.xn--p1ai
SUMMARY:Дмитрий Герасимов "Сказание о трех Варварах"
DESCRIPTION:Поэтическая и уютная прогулка по Китай-городу и окрестностям\, рассказанная через истории трех Варвар. Любовь\, идея\, деньги – что выбрать\, чтобы быть счастливой? Ответы на этот философский вопрос мы узнаем от героинь нашей экскурсии. \nТри женские истории. Две реальные и одна\, как многие церковные\, основана на реальных. Варвара нелюбимая\, Варвара щедрая\, Варвара святая. Что их объединяет\, что различает? Что нам в их именах?\nИстории старые\, как мир. Так обычно говорят. Хотя наш мир человечий совсем молодой\, по меркам Вселенной. И в этом мире\, пока он продолжает существовать\, всегда\, т.е. постоянно будут говорить\, думать\, обсуждать — какая она\, Любовь? А если не-Любовь\, но денег море? А если не-Любовь\, и денег море\, но есть Идея\, для чего жить? А если жить в Любви и денег море\, и есть Идея\, для чего жить\, но Идея сталкивается с Любовью? И ведет к Смерти? А если… А если… Лишь три сценария из тысячи. Говоря о них\, мы навестим три московских адреса в самом центре\, два в Китай-городе\, один — вне его.\nИ помимо этого\, как можно не устроить московское торговое многоголосие у Ильинских ворот?\nКак можно\, проходя мимо призрака стены\, миновать бессловесно Боярский Двор\, такой разный вверху и внизу?\nИ не упомянуть легендарную башню\, которая видела битвы\, бунты\, блаженных и мятежных?\nНе рассказать\, каким было Зарядье в допарковый период?\nПро того\, кто своей жизнью спас для нас шедевры от гибели?\nПро “автобус дяди Васи” в маленькой церковной комнатке?\nПро то\, как Каин с церковью договорился? \nВсе это и три Варвары будут ждать и сопровождать нас два часа в душевной прогулке\, которая начнется в 15.00 у Памятника Героям Плевны (м.Китай-город). И закончится на Варварке\, конечно. А чем закончится? Конечно\, стихами. Так надоела эта проза жизни\, согласитесь!!” \nЗапись: https://klassnie.timepad.ru/event/2875153/
URL:https://xn--b1aghaiacprbijlcgx0o.xn--p1ai/event/3296
CATEGORIES:Telegram,Архитектурные экскурсии,Историческая экскурсия,История архитектуры,История искусства,Литературные экскурсии,Пешеходные экскурсии,Экскурсии для взрослых,Экскурсия 12+
END:VEVENT
END:VCALENDAR