BEGIN:VCALENDAR
VERSION:2.0
PRODID:-//Календарь экскурсий и мероприятий в Москве - ECPv6.14.1//NONSGML v1.0//EN
CALSCALE:GREGORIAN
METHOD:PUBLISH
X-WR-CALNAME:Календарь экскурсий и мероприятий в Москве
X-ORIGINAL-URL:https://xn--b1aghaiacprbijlcgx0o.xn--p1ai
X-WR-CALDESC:Мероприятия для Календарь экскурсий и мероприятий в Москве
REFRESH-INTERVAL;VALUE=DURATION:PT1H
X-Robots-Tag:noindex
X-PUBLISHED-TTL:PT1H
BEGIN:VTIMEZONE
TZID:Europe/Moscow
BEGIN:STANDARD
TZOFFSETFROM:+0300
TZOFFSETTO:+0300
TZNAME:MSK
DTSTART:20240101T000000
END:STANDARD
END:VTIMEZONE
BEGIN:VEVENT
DTSTART;TZID=Europe/Moscow:20240531T190000
DTEND;TZID=Europe/Moscow:20240531T203000
DTSTAMP:20260423T011920
CREATED:20240529T220234Z
LAST-MODIFIED:20240530T054700Z
UID:3429-1717182000-1717187400@xn--b1aghaiacprbijlcgx0o.xn--p1ai
SUMMARY:Ирина Чижевская. Никольская - Ильинка. Эклектика в московском сити!. Никольская - Ильинка. Эклектика в московском сити!
DESCRIPTION:*31 Мая в 18:30 порадуемся последнему весеннему вечеру с Ириной Чижевской* Когда-то главный деловой центр Москвы\, известный еще с эпохи Ивана Грозного. Здесь даже сохранился храм\, где он венчался с очередной женой❣. А сейчас можно ходить по этому кварталу и попадать\, то в Париж\, то в Италию\, а может и в Вену🧳. Настоящее архитектурное путешествие 🛣. Окунемся в готический квартал\, модерн и конечно русское средневековье🏰 • как архитекторы отражали деятельность компаний\, на фасадах\n🎭 где родился Московский художественный театр и откуда взялись журавли\n🧚🏻‍♀️ метаморфозы Федора Шехтеля\n🕵 как директор биржи стал советским разведчиком;\n👗 когда в Москве появилась первая улица с люксовыми брендами 🔥И множество других открытий: храм на стройке\, развалины супер ресторана\, интерьер “обшарпе” за кучу денег от супер дизайнера… 🌟
URL:https://xn--b1aghaiacprbijlcgx0o.xn--p1ai/event/3429
LOCATION:встреча – выход из метро “Лубянка” №10 к Никольской (на улице).
CATEGORIES:Telegram
END:VEVENT
END:VCALENDAR