BEGIN:VCALENDAR
VERSION:2.0
PRODID:-//Календарь экскурсий и мероприятий в Москве - ECPv6.14.1//NONSGML v1.0//EN
CALSCALE:GREGORIAN
METHOD:PUBLISH
X-ORIGINAL-URL:https://xn--b1aghaiacprbijlcgx0o.xn--p1ai
X-WR-CALDESC:Мероприятия для Календарь экскурсий и мероприятий в Москве
REFRESH-INTERVAL;VALUE=DURATION:PT1H
X-Robots-Tag:noindex
X-PUBLISHED-TTL:PT1H
BEGIN:VTIMEZONE
TZID:Europe/Moscow
BEGIN:STANDARD
TZOFFSETFROM:+0300
TZOFFSETTO:+0300
TZNAME:MSK
DTSTART:20240101T000000
END:STANDARD
END:VTIMEZONE
BEGIN:VEVENT
DTSTART;TZID=Europe/Moscow:20240601T110000
DTEND;TZID=Europe/Moscow:20240601T131500
DTSTAMP:20260421T224548
CREATED:20240530T113617Z
LAST-MODIFIED:20240530T160036Z
UID:3434-1717239600-1717247700@xn--b1aghaiacprbijlcgx0o.xn--p1ai
SUMMARY:Вячеслав Рябых. От Екатерины до Лужкова. Архитектура глазами критики
DESCRIPTION:У большинства людей современная архитектура не вызывает положительных эмоций. Она не может сравнится с великими стилями прошлого: модерном\, сталинской неоклассикой или авангардом. Но разделяли этот восторг ее современики? В ходе экскурсии посмотрим как и за что ругали московскую архитектуру в разные исторические эпохи. \nНа экскурсии вы увидите:\nПервый гараж для автобусов в СССР\nТеатр в форме звезды\nДом в стиле северный модерн\nДеревянные дома конца 19 века\nНа экскурсии вы узнаете: \nКак связаны архитектура с политическим руководством страны\nКакие ахитектурные стили использавались в Москве в 20 веке\nПочему Театр российской армии имеет такую необычную форму\nКакой транспорт был самым популярным в Москве в начале 20 века\nКакую идею привёз из Америки архитектор Александр Зеленко
URL:https://xn--b1aghaiacprbijlcgx0o.xn--p1ai/event/3434
LOCATION:На выходе из метро Новослободская
CATEGORIES:Telegram
END:VEVENT
BEGIN:VEVENT
DTSTART;TZID=Europe/Moscow:20240601T110000
DTEND;TZID=Europe/Moscow:20240601T133000
DTSTAMP:20260421T224548
CREATED:20240528T085950Z
LAST-MODIFIED:20240528T085950Z
UID:3413-1717239600-1717248600@xn--b1aghaiacprbijlcgx0o.xn--p1ai
SUMMARY:Юлия Егорова. Кусково: дворец\, грот\, парк
DESCRIPTION:🌹 1 июня\, суббота\, 11.00 \nКусково. Дворец\, грот\, театр и любовь.\n1300 р/чел+входные билеты.\nИдем в самую красивую усадьбу Москвы. Дворец прямиком из 18-го века\, барочный грот\, усыпанный раковинами\, пруд\, павлин и прочие удовольствия. \nПопасть туда сложно стороннему экскурсоводу\, потому что редко выпадают свободные слоты! И наконец\, случилось чудо! Кусково – это просто нет слов\, как красиво и как интересно. Так что жду вас всенепременно! \nОсталось 5 мест! \nЗапись @mummy_zu
URL:https://xn--b1aghaiacprbijlcgx0o.xn--p1ai/event/3413
LOCATION:Кассы усадьбы Кусково\, ул. Юности\, 2
CATEGORIES:Telegram
END:VEVENT
BEGIN:VEVENT
DTSTART;TZID=Europe/Moscow:20240601T160000
DTEND;TZID=Europe/Moscow:20240601T180000
DTSTAMP:20260421T224548
CREATED:20240528T124555Z
LAST-MODIFIED:20240528T124555Z
UID:3418-1717257600-1717264800@xn--b1aghaiacprbijlcgx0o.xn--p1ai
SUMMARY:Грехова Лада гид по Москве. Чертольская\, она же Пречистенка\, она же Кропоткинская\, она же … опять Пречистенка
DESCRIPTION:Местные жители и царская дорога к Новодевичьему монастырю\, аристократические привычки жизни в характере улицы\, герои 1812г.\, галереи купцов\, музеи корифеев русской культуры\, как быстрее стало возможным восстановить Москву от пожара 1812г. Поговорим о жизни московских дворян\, воспитании их детей.
URL:https://xn--b1aghaiacprbijlcgx0o.xn--p1ai/event/3418
LOCATION:ст.м.Кропоткинская\, вх.N1
CATEGORIES:Telegram
END:VEVENT
BEGIN:VEVENT
DTSTART;TZID=Europe/Moscow:20240601T170000
DTEND;TZID=Europe/Moscow:20240601T193000
DTSTAMP:20260421T224548
CREATED:20240528T085954Z
LAST-MODIFIED:20240528T085954Z
UID:3415-1717261200-1717270200@xn--b1aghaiacprbijlcgx0o.xn--p1ai
SUMMARY:Екатерина Козловская. Экскурсия «В окрестностях Мясницкой: десять писем о Москве и ее жителях»
DESCRIPTION:Приглашаю пройти со мной сквозь несколько веков московской истории и заглянуть в документы государственной важности и тайные личные записки. \nВо время прогулки вы узнаете:\n– как в старину отправлялись письма и почему Мясницкая считается главной почтовой улицей страны;\n– почему среди мясников и огородников в один прекрасный день стала селиться московская аристократия;\n– кто из великих писателей любил в переписке посплетничать о светских скандалах;\n– где на самом деле находилось то самое Лукоморье\, у которого Пушкин познакомился с ученым котом;\n– чем производители сельскохозяйственного инвентаря помогли Кремлевской башне;\n– как театр семнадцатого века стал спасением для светила медицины;\n– какой была желтая пресса прошлых времён – и как однажды в ней отразилась эпидемия любовных самоубийств;\n– как благодаря безответной любви неизвестный художник превратился в знаменитого поэта;\n– почему один рекламный просчёт московского торговца обернулся великой удачей – и как столица при этом получила одну из своих архитектурных жемчужин. \nВ конце экскурсии вас ждёт небольшой сюрприз и возможность оставить на память себе и потомкам свой собственный маленький исторический артефакт
URL:https://xn--b1aghaiacprbijlcgx0o.xn--p1ai/event/3415
LOCATION:На улице у выхода номер 1 из метро Красные ворота
CATEGORIES:Telegram
END:VEVENT
END:VCALENDAR