BEGIN:VCALENDAR
VERSION:2.0
PRODID:-//Календарь экскурсий и мероприятий в Москве - ECPv6.14.1//NONSGML v1.0//EN
CALSCALE:GREGORIAN
METHOD:PUBLISH
X-ORIGINAL-URL:https://xn--b1aghaiacprbijlcgx0o.xn--p1ai
X-WR-CALDESC:Мероприятия для Календарь экскурсий и мероприятий в Москве
REFRESH-INTERVAL;VALUE=DURATION:PT1H
X-Robots-Tag:noindex
X-PUBLISHED-TTL:PT1H
BEGIN:VTIMEZONE
TZID:Europe/Moscow
BEGIN:STANDARD
TZOFFSETFROM:+0300
TZOFFSETTO:+0300
TZNAME:MSK
DTSTART:20240101T000000
END:STANDARD
END:VTIMEZONE
BEGIN:VEVENT
DTSTART;TZID=Europe/Moscow:20240607T183000
DTEND;TZID=Europe/Moscow:20240607T203000
DTSTAMP:20260421T224545
CREATED:20240605T134102Z
LAST-MODIFIED:20240605T134102Z
UID:3457-1717785000-1717792200@xn--b1aghaiacprbijlcgx0o.xn--p1ai
SUMMARY:Ирина Чижевская. По Великой стене\, вокруг Великого Посада
DESCRIPTION:07 Июня\, в 18:30 идем гулять по несуществующей или все таки реальной😉 стене крепости КИТАЙ-ГОРОД с Ириной Чижевской Даже такого района на карте столицы не существует\, а когда-то это была настоящая цитадель Москвы\, ее живое сердце. Здесь сформировался настоящий торговый и деловой район с вечными лавками и лабазами. Стена служила и для отражения атак врагов и как жилье для разного люда. Она влияла на архитектуру зданий\, формировала улицы и переулки. Ее подлинные башни мы можем найти на задворках шикарных гостиниц и в переходах метро\, а эффектные восстановленные части расскажут нам\, как жили Москвичи подле нее почти 500 лет. И почему она так никого и не защитила.\nУзнаем про быт торговцев и где была главная опасная толкучка в Москве\, как вершили суд  у церкви на полях. Увидим здания-обманки и церковь без привычных апсид. Поговорим о жизни настоящего средневекового квартала от которого остались лишь призраки.
URL:https://xn--b1aghaiacprbijlcgx0o.xn--p1ai/event/3457
LOCATION:Место встречи: выход из метро Охотный Ряд Площадь Революции Театральная — памятник Жукову
CATEGORIES:Telegram
END:VEVENT
END:VCALENDAR