BEGIN:VCALENDAR
VERSION:2.0
PRODID:-//Календарь экскурсий и мероприятий в Москве - ECPv6.14.1//NONSGML v1.0//EN
CALSCALE:GREGORIAN
METHOD:PUBLISH
X-WR-CALNAME:Календарь экскурсий и мероприятий в Москве
X-ORIGINAL-URL:https://xn--b1aghaiacprbijlcgx0o.xn--p1ai
X-WR-CALDESC:Мероприятия для Календарь экскурсий и мероприятий в Москве
REFRESH-INTERVAL;VALUE=DURATION:PT1H
X-Robots-Tag:noindex
X-PUBLISHED-TTL:PT1H
BEGIN:VTIMEZONE
TZID:Europe/Moscow
BEGIN:STANDARD
TZOFFSETFROM:+0300
TZOFFSETTO:+0300
TZNAME:MSK
DTSTART:20240101T000000
END:STANDARD
END:VTIMEZONE
BEGIN:VEVENT
DTSTART;TZID=Europe/Moscow:20240608T110000
DTEND;TZID=Europe/Moscow:20240608T140000
DTSTAMP:20260422T060226
CREATED:20240605T134651Z
LAST-MODIFIED:20240607T192244Z
UID:3460-1717844400-1717855200@xn--b1aghaiacprbijlcgx0o.xn--p1ai
SUMMARY:Ольга Зотова. Союз экскурсоводов. Фальшивомонетчики\, колдуны и другие Пушкины
DESCRIPTION:Карты\, деньги и четыре Пушкина! В субботу 8 июня отправимся на Разгуляй и узнаем\, как москвичи обходили ограничения продажи алкоголя\, и каких мух давил дядя Онегина.\nПоищем подтверждение московской легенды о колдуне и свидетельство того\, что он делал на Разгуляе. Обсудим московские сплетни о наполеоновских солдатах\, грабивших москвичей и заражавших французской болезнью. А также узнаем\, кому на этой площади выпала удача\, а кто потерял сокровище.\nИ вообще\, насколько везло Пушкиным в картах\, деньгах и при обращении с оружием. Испытаем удачу в карточной игре и сравним\, насколько фортуна расположена к участникам экскурсии и героям Пушкина. \nМероприятие является частью экскурсионного марафона “Небронзовый Пушкин”\, организованного департаментом по Туризму Москвы и Союзом экскурсоводов.\nГости\, посетившие все шесть объектов марафона\, могут принять участие в викторине. \nПобедители будут награждены призами. \nДля участия необходима регистрация на РУССПАСС. \nГде: площадь Разгуляй\nКогда: 8 июня\, суббота\nВо сколько: с 11:00 каждые полчаса до 14:00\nКак меня узнать: по блеску в глазах
URL:https://xn--b1aghaiacprbijlcgx0o.xn--p1ai/event/3460
LOCATION:Площадь Разгуляй
CATEGORIES:Telegram
END:VEVENT
BEGIN:VEVENT
DTSTART;TZID=Europe/Moscow:20240608T110000
DTEND;TZID=Europe/Moscow:20240608T140000
DTSTAMP:20260422T060226
CREATED:20240606T115750Z
LAST-MODIFIED:20240606T115750Z
UID:3475-1717844400-1717855200@xn--b1aghaiacprbijlcgx0o.xn--p1ai
SUMMARY:Союз экскурсоводов. Улица Пушкина
DESCRIPTION:Введите новое значение для Описания мероприятия\nРедактируем:\n❤️🔥❤️ Пушкин!\n6 июня 2024: 225 лет\n8 июня 2024: 6 знаковых мест\n8 июня 2024: 6 экскурсоводов\n8 июня 2024: 3 часа о Саше\, Александре\, Александре Сергеевиче \n⚡️⚡️ Мы обещали – ловите ссылку на регистрацию ⚡️⚡️ \nСоюз экскурсоводов и Комитет по туризму Москвы с радостью приглашают вас\, друзья\, на ключевое событие июньской части проекта «Улица Пушкина» в Басманный район Москвы – экскурсионный марафон! \nСУББОТА 8 ИЮНЯ 2024 с  11:00 ДО 14:00 \n🔔 Уникальный формат: мы выбрали шесть мест\, важных для понимания Пушкина-поэта и Пушкина-человека.\nВ каждой такой точке вас будет ждать экскурсовод\, который покажет и расскажет\, что и кто окружал Пушкина\, влиял на него\, кого любил поэт – и кто хранит память о нём. \nКак это будет:\n1. Вы регистрируетесь по ссылке\n2. В субботу 8 июня 2024 приезжаете к 11 утра на любую из точек экскурсионного марафона\, сканируете свой билет RussPass`а\n3. Каждые полчаса (11:05\, 11:35\, 12:05\, 12:35\, 13:05\, 13:35) экскурсовод в каждой локации начинает свой рассказ для тех\, кто собрался в этой точке\n4. После «экскурсии на месте» каждый экскурсовод задаёт вам вопрос. Вы отвечаете на него в электронной форме\n5. Переходите (или переезжаете на самокате\, автобусе\, велосипеде…) к следующей точке.  \nПоследовательность точек маршрута вы выбираете самостоятельно\, в удобном вам порядке! \n🏆 Важно: по итогам марафона мы подведём итоги – и отправим победителей на экскурсию в Московский драматический театр имени А.С. Пушкина.\nПобедители – это зарегистрированные участники\, которые пройдут все шесть локаций и верно ответят на все шесть вопросов \nМожно пройти все локации. Можно не все. можно выбирать последовательность. Можно и нужно узнавать новое и интересное\, любоваться родными для Пушкина местами и делать дивные фотографии😃 И ещё самых креативных ждут сувениры от Комитета по туризму и от Союза экскурсоводов😉\n\nИ о проекте «Улица Пушкина»: \nМы знаем Александра Сергеевича не со школы даже\, а с детского сада\, растём на его сказках\, лирике\, прозе\, поэмах – и он\, Пушкин\, превратился для нас в памятник: рукотворный и нерукотворный.\nНо ведь это не так. Александр Сергеевич – человек\, человек своего времени – и опередивший его. Пушкин-творец стоял на плечах своих великих предшественников – и менял мир вокруг себя\, оставаясь для многих (не)обычным современником. У него были папа и мама\, братья и сёстры\, любимая «жёнка» и дети – «Машка\, Сашка\, Гришка\, Наташка»; были дядя-поэт и очень разное окружение: друзья – и шалопаи\, и светские львы\, и серьёзные учёные. Он болел и блистал\, влезал в долги и проигрывал в карты\, составлял донжуанский список – и искренне любил\, умилялся собственным детям и воспарял духом в общении с друзьями. Он опережал своё время – и был его сыном. \nСобственно\, об этом мы и думали\, создавая проект «Улица Пушкина»: мы – профессиональные экскурсоводы\, и мы можем показать Пушкина в его родном городе\, в Москве\, не как памятник\, но как живого человека. рассказать о местах\, связанных с его жизнью и наследием\, о судьбах людей\, повлиявших на Александра Сергеевича\, о его родных\, друзьях\, врагах\, последователях и наследниках. \nПервым событием проекта (февраль 2024) стал необычный выпуск онлайн-лектория Союза экскурсоводов\, в рамках которого восемь наших коллег рассказали о восьми регионах и об одной железной дороге\, связанных с Пушкиным. \nИюнь 2024: новый офлайн-формат – экскурсионный марафон «Улица Пушкина»! Мы приглашаем вас в Басманный район – именно туда\, где поэт родился\, где его крестили\, где жил его дядя\, в места\, связанные с его друзьями и одной из дочерей. \n#улицапушкина
URL:https://xn--b1aghaiacprbijlcgx0o.xn--p1ai/event/3475
LOCATION:Басманный район\, Москва\, Москва\, Российская Федерация
CATEGORIES:Telegram
END:VEVENT
BEGIN:VEVENT
DTSTART;TZID=Europe/Moscow:20240608T150000
DTEND;TZID=Europe/Moscow:20240608T180000
DTSTAMP:20260422T060226
CREATED:20240531T155749Z
LAST-MODIFIED:20240606T122348Z
UID:3448-1717858800-1717869600@xn--b1aghaiacprbijlcgx0o.xn--p1ai
SUMMARY:Светлана Малафеева. Где родился Пушкин?
DESCRIPTION:Приглашаю на мою экскурсию 8 июня 2024 года в 15.00 “Где родился Пушкин?” На правом берегу Яузы возле ручья Кукуй находилась слобода\, которую москвичи называли Немецкой. Немцами долгое время именовали всех иностранцев. Имелось ввиду\, что они «немые»\, не знают русского языка. Все иностранцы жили отдельно от жителей Москвы\, в 1652 года по указу царя их переселили за пределы города. История этого места связана с реформами Петра Великого\, а также с именем великого Пушкина. 6 июня 1799 года поэт родился в Немецкой Слободе. На экскурсии мы поговорим об истории этого района и попробуем понять – где же родился Пушкин? \nЭкскурсию проводит кандидат исторических наук\, самозанятый экскурсовод Малафеева Светлана Леонидовна. \nСтоимость – 700 рублей\, скидка пенсионерам и по кодовому слову – 100 рублей. \nПродолжительность – 3 часа. \nРегистрация по почте fotus@mail.ru.\nКонтактный телефон 89035999977. \nЭкскурсия проходит в рамках акции Межрегионального Союза экскурсоводов #улицаПушкина
URL:https://xn--b1aghaiacprbijlcgx0o.xn--p1ai/event/3448
LOCATION:метро Бауманская\, Бауманская ул.\, 33/2\, стр. 2\, Москва\, Российская Федерация
CATEGORIES:Telegram
END:VEVENT
BEGIN:VEVENT
DTSTART;TZID=Europe/Moscow:20240608T160000
DTEND;TZID=Europe/Moscow:20240608T180000
DTSTAMP:20260422T060226
CREATED:20240529T134335Z
LAST-MODIFIED:20240529T134335Z
UID:3424-1717862400-1717869600@xn--b1aghaiacprbijlcgx0o.xn--p1ai
SUMMARY:Грехова Лада. То ли дело... по Мясницкой разъезжать...
DESCRIPTION:Мясницкая – улица\, по которой царь Петр ездил из Кремля в свою любимую Немецкую слободу и которая когда-то претендовала на то\, чтобы стать главной в Москве. Этого не случилось\, но застраивалась она в течение веков многими интересными зданиями. Мы прогуляемся по Мясницкой и прилегающим к ней переулкам бывшей Огородной слободы\, от Бульварного до Садового кольца\, и узнаем: \n– как Поганые пруды превратились в Чистые;\n– где Грибоедов писал свое “Горе”;\n– что общего между Кузьмой Медичи и Иосифом Сталиным;\n– где “центр интеллигентных технических сил” Москвы;\n– найдем особняк цвета утренней зари и дом трех композиторов;\n– тихий сквер с библиотекой в старых палатах;\n– посмотрим интересные образцы доходных домов разного времени и знаменитую постройку Ле Корбюзье.
URL:https://xn--b1aghaiacprbijlcgx0o.xn--p1ai/event/3424
LOCATION:ст.м.Красные ворота\,№1\, у входа
CATEGORIES:Telegram
END:VEVENT
END:VCALENDAR