BEGIN:VCALENDAR
VERSION:2.0
PRODID:-//Календарь экскурсий и мероприятий в Москве - ECPv6.14.1//NONSGML v1.0//EN
CALSCALE:GREGORIAN
METHOD:PUBLISH
X-WR-CALNAME:Календарь экскурсий и мероприятий в Москве
X-ORIGINAL-URL:https://xn--b1aghaiacprbijlcgx0o.xn--p1ai
X-WR-CALDESC:Мероприятия для Календарь экскурсий и мероприятий в Москве
REFRESH-INTERVAL;VALUE=DURATION:PT1H
X-Robots-Tag:noindex
X-PUBLISHED-TTL:PT1H
BEGIN:VTIMEZONE
TZID:Europe/Moscow
BEGIN:STANDARD
TZOFFSETFROM:+0300
TZOFFSETTO:+0300
TZNAME:MSK
DTSTART:20240101T000000
END:STANDARD
END:VTIMEZONE
BEGIN:VEVENT
DTSTART;TZID=Europe/Moscow:20240615T123000
DTEND;TZID=Europe/Moscow:20240615T150000
DTSTAMP:20260421T112431
CREATED:20240614T072410Z
LAST-MODIFIED:20240614T072410Z
UID:3560-1718454600-1718463600@xn--b1aghaiacprbijlcgx0o.xn--p1ai
SUMMARY:Роман Лоев. Можайск сквозь века
DESCRIPTION:Разгадать тайны древнего города при помощи органов чувств на обзорной экскурсии по Можайску \nСтаринный Можайск – свидетель глубокой древности Руси\, город с богатой и таинственной историей. Уникальная для России архитектура\, статус единственного на Руси священного города\, главные исторические события нашей Родины – все это отважно пронес Можайск сквозь столетия.  \nГлавные достопримечательности\nСреди кварталов купеческих домов высится холм\, на котором располагался Можайский кремль. Мы воссоздадим вид его укреплений и даже спустимся под один из соборов\, чтобы увидеть древние въездные ворота крепости. Поднимемся на высоченную колокольню Ново-Никольского собора и рассмотрим город с высоты птичьего полета. Исследуем редкую для России псевдоготическую архитектуру\, а также при помощи наших органов чувств узнаем\, чем торговали можайские купцы. И\, конечно же\, посмотрим на архитектуру самого богатого купеческого дома Можайска. \nВы увидите:\n🟢Масонские символы\, скрытые на фасаде православного храма\n🟢Дом\, построенный специально для императора Николая II и его семьи\n🟢Один из первых архитектурных примеров раннемосковского зодчества\n🟢Археологические находки Можайской земли и даже сможете подержать их в руках \nВы узнаете:\n🟢Почему народ со всей Руси стекался на богомолье в можайские земли\n🟢Какая трагедия произошла после Бородинской битвы в Можайске в 1812 году\n🟢Что объединяет Московский\, Можайский и Коломенский кремли\n🟢Чем особенно славились можайские ярмарки \nОрганизационные детали:\n🟢Пожалуйста\, одевайтесь по погоде\, надевайте удобную обувь;\n🟢Экскурсия предполагает прослушивание аудио-файлов. Прошу вас взять с собой наушники и заряженный телефон.\n🟢На маршруте предстоит подняться на колокольню. Подъем и спуск в некоторых местах достаточно крутой. Прошу вас учесть эту информацию при бронировании экскурсии.
URL:https://xn--b1aghaiacprbijlcgx0o.xn--p1ai/event/3560
LOCATION:город Можайск\, Ново-Никольский собор
CATEGORIES:Telegram
END:VEVENT
BEGIN:VEVENT
DTSTART;TZID=Europe/Moscow:20240615T160000
DTEND;TZID=Europe/Moscow:20240615T180000
DTSTAMP:20260421T112431
CREATED:20240529T134335Z
LAST-MODIFIED:20240612T081230Z
UID:3423-1718467200-1718474400@xn--b1aghaiacprbijlcgx0o.xn--p1ai
SUMMARY:Грехова Лада. Китай-город по-московски
DESCRIPTION:Самый богатейший район Москвы по количеству достопримечательностей и исторической информации. Район Китай-Город – кварталы вокруг улиц Варварка\, Ильинка\, Никольская. \nРазберёмся\, почему Китай-Город вообще не связан с китайцами; найдём спрятанный храм Ильи Пророка у ГУМа. \nУвидим\, в какие двери стучался Михайло Ломоносов\, когда пришёл из Архангельска. \nУзнаем какую первую светскую книгу перевели и напечатали в России. \nРазыщем усадьбы и место упокоения древних боярских родов\, Сити по-московски в 19в. и «мужицкий» капитализм. \n  \nЗапись в телеграмм https://t.me/grekhovalada
URL:https://xn--b1aghaiacprbijlcgx0o.xn--p1ai/event/3423
LOCATION:ст.м.Лубянка\, вх.№10\, у входа в метро
CATEGORIES:Telegram
END:VEVENT
END:VCALENDAR