BEGIN:VCALENDAR
VERSION:2.0
PRODID:-//Календарь экскурсий и мероприятий в Москве - ECPv6.14.1//NONSGML v1.0//EN
CALSCALE:GREGORIAN
METHOD:PUBLISH
X-WR-CALNAME:Календарь экскурсий и мероприятий в Москве
X-ORIGINAL-URL:https://xn--b1aghaiacprbijlcgx0o.xn--p1ai
X-WR-CALDESC:Мероприятия для Календарь экскурсий и мероприятий в Москве
REFRESH-INTERVAL;VALUE=DURATION:PT1H
X-Robots-Tag:noindex
X-PUBLISHED-TTL:PT1H
BEGIN:VTIMEZONE
TZID:Europe/Moscow
BEGIN:STANDARD
TZOFFSETFROM:+0300
TZOFFSETTO:+0300
TZNAME:MSK
DTSTART:20240101T000000
END:STANDARD
END:VTIMEZONE
BEGIN:VEVENT
DTSTART;TZID=Europe/Moscow:20240622T140000
DTEND;TZID=Europe/Moscow:20240622T163000
DTSTAMP:20260422T210657
CREATED:20240609T152603Z
LAST-MODIFIED:20240609T152603Z
UID:3507-1719064800-1719073800@xn--b1aghaiacprbijlcgx0o.xn--p1ai
SUMMARY:Юлия Косова. Последняя обитель звезд. Кунцевское кладбище
DESCRIPTION:Кунцевское кладбище стало последней обителью для множества знаменитых артистов и поэтов\, спортсменов и ученых. Экскурсия продолжает серию «умных» прогулок по московским некрополям со знаменитой Юлией Косовой. \nНа нашей экскурсии вы узнаете о клоуне Карандаше\, который ввел моду на скотч-терьеров\, Николае Носове\, писавшем детские произведения\, а получилось целое пособие по экономике\, о Юрии Визборе\, который не только написал песни\, которые пели на всех кухнях СССР\, но и сыграл Бормана в фильме «Семнадцать мгновений весны». \nПоговорим о поэте Андрее Дементьеве\, узнаем\, как Робин Гуд и Ван Гог слились в одном памятнике Борису Хмельницкому\, чем чреват нетрезвый взгляд на Москву с Петушками\, почему была заброшена могила одной из самых красивых актрис XX века Натальи Кустинской?
URL:https://xn--b1aghaiacprbijlcgx0o.xn--p1ai/event/3507
LOCATION:у центрального входа на Кунцевское кладбище (ул. Рябиновая\, 20с1).
CATEGORIES:Telegram
END:VEVENT
END:VCALENDAR