BEGIN:VCALENDAR
VERSION:2.0
PRODID:-//Календарь экскурсий и мероприятий в Москве - ECPv6.14.1//NONSGML v1.0//EN
CALSCALE:GREGORIAN
METHOD:PUBLISH
X-ORIGINAL-URL:https://xn--b1aghaiacprbijlcgx0o.xn--p1ai
X-WR-CALDESC:Мероприятия для Календарь экскурсий и мероприятий в Москве
REFRESH-INTERVAL;VALUE=DURATION:PT1H
X-Robots-Tag:noindex
X-PUBLISHED-TTL:PT1H
BEGIN:VTIMEZONE
TZID:Europe/Moscow
BEGIN:STANDARD
TZOFFSETFROM:+0300
TZOFFSETTO:+0300
TZNAME:MSK
DTSTART:20240101T000000
END:STANDARD
END:VTIMEZONE
BEGIN:VEVENT
DTSTART;TZID=Europe/Moscow:20240623T110000
DTEND;TZID=Europe/Moscow:20240623T131500
DTSTAMP:20260422T052956
CREATED:20240621T220931Z
LAST-MODIFIED:20240621T221124Z
UID:3622-1719140400-1719148500@xn--b1aghaiacprbijlcgx0o.xn--p1ai
SUMMARY:Даниил Евдокимов. Новодевичье кладбище и его символы
DESCRIPTION:В Москве не стоит бояться кладбищ\, особенно Новодевичьего. Это не страшное место с кучей оградок и покосившихся крестов\, а прекрасный музей под открытым небом\, где обрели покой знаковые деятели культуры\, науки и искусства\, учёные и герои. Видные деятели царской России соседствуют с теми\, кто прославлял своими трудами Советский Союз. Прогуляемся по дорожкам-залам и ознакомимся с этим пантеоном славы. \nТраурные символы\nНа кладбище похоронены любимые многими актёры\, известные деятели\, но среди разнообразия знакомых фамилий выстроен особый маршрут — главной темой которого будет ритуальная символика\, которая была присуща как могилам дореволюционным\, так и потом советским.\nРазберемся в удивительных закономерностях и проследим за вековыми трендами в похоронном деле до современных могил. \nВы увидите:\n— Артефакт\, которому 2000 лет;\n— Вечный огонь и огонь\, застывший в вечности;\n— Где похоронен Ленин;\n— Русского «Роденовского Мыслителя»;\n— Единственную в своём роде постройку на этом кладбище. \nУзнаете:\n— Что необычного используется в качестве траурной символики;\n— Как памятники находили своих владельцев;\n— Ответы на некоторые школьные задачи;\n— Чей памятник растащили на сувениры;\n— У кого на могиле вечно стоят хризантемы\, а кому нельзя приносить розы;\n— Сыграете ли вы в ящик или отдадите богу душу;\n— У кого две могилы;\n— Какие животные есть на кладбище; \nЗапись через телеграмм https://t.me/Xerox_888
URL:https://xn--b1aghaiacprbijlcgx0o.xn--p1ai/event/3622
LOCATION:Лужнецкий проезд\, 2с2\, у входа на кладбище
CATEGORIES:Telegram
END:VEVENT
BEGIN:VEVENT
DTSTART;TZID=Europe/Moscow:20240623T130000
DTEND;TZID=Europe/Moscow:20240623T150000
DTSTAMP:20260422T052956
CREATED:20240609T152748Z
LAST-MODIFIED:20240609T153239Z
UID:3509-1719147600-1719154800@xn--b1aghaiacprbijlcgx0o.xn--p1ai
SUMMARY:Юлия Косова. Ваганьковское кладбище. Чтобы помнили
DESCRIPTION:Древняя притча гласит\, что человек жив\, пока на Земле есть хотя бы один человек\, который помнит о нём. Ваганьковский некрополь хранит множество воспоминаний и тайн. А всё тайное\, рано или поздно\, становится явным. \nМы приглашаем вас на экскурсию по Ваганьковскому некрополю\, где вы узнаете: кому принадлежат таинственные необычные памятники Ваганьковского кладбища\, кому обязан жизнью миллиардер-долгожитель Дэвид Рокфеллер\, как судьба не пощадила знаменитого хоккеиста Александра Альметова\, почему Есенина похоронили на Ваганьковском кладбище и многое другое.
URL:https://xn--b1aghaiacprbijlcgx0o.xn--p1ai/event/3509
LOCATION:ул. Сергея Макеева\, 15. Слева от входа на Ваганьковское кладбище
CATEGORIES:Telegram
END:VEVENT
BEGIN:VEVENT
DTSTART;TZID=Europe/Moscow:20240623T180000
DTEND;TZID=Europe/Moscow:20240623T193000
DTSTAMP:20260422T052956
CREATED:20240619T140406Z
LAST-MODIFIED:20240619T141604Z
UID:3600-1719165600-1719171000@xn--b1aghaiacprbijlcgx0o.xn--p1ai
SUMMARY:Мария Гаврилина. «Собранье пёстрых глав»: литературная Петровка
DESCRIPTION:* как выглядел speed-dating в 19 веке\n* где московские модницы и модники могли одеться с головы до ног\n* на что надо обращать внимание при выборе квартиры для аренды\n* почему в дореволюционном ресторане у нас могли бы возникнуть проблемы с заказом. \nПроверим\, так ли уж много отделяет нас от героев Пушкина\, Толстого\, Чехова и других классиков русской литературы. \nГуляем в группе до 10 человек с радиогидами. \nЗапись в телеграм https://t.me/gavrilinamar \n 
URL:https://xn--b1aghaiacprbijlcgx0o.xn--p1ai/event/3600
LOCATION:метро Театральная
CATEGORIES:Telegram
END:VEVENT
END:VCALENDAR