BEGIN:VCALENDAR
VERSION:2.0
PRODID:-//Календарь экскурсий и мероприятий в Москве - ECPv6.14.1//NONSGML v1.0//EN
CALSCALE:GREGORIAN
METHOD:PUBLISH
X-ORIGINAL-URL:https://xn--b1aghaiacprbijlcgx0o.xn--p1ai
X-WR-CALDESC:Мероприятия для Календарь экскурсий и мероприятий в Москве
REFRESH-INTERVAL;VALUE=DURATION:PT1H
X-Robots-Tag:noindex
X-PUBLISHED-TTL:PT1H
BEGIN:VTIMEZONE
TZID:Europe/Moscow
BEGIN:STANDARD
TZOFFSETFROM:+0300
TZOFFSETTO:+0300
TZNAME:MSK
DTSTART:20240101T000000
END:STANDARD
END:VTIMEZONE
BEGIN:VEVENT
DTSTART;TZID=Europe/Moscow:20240625T170000
DTEND;TZID=Europe/Moscow:20240625T183000
DTSTAMP:20260422T052952
CREATED:20240529T150657Z
LAST-MODIFIED:20240621T170940Z
UID:3426-1719334800-1719340200@xn--b1aghaiacprbijlcgx0o.xn--p1ai
SUMMARY:Грехова Лада. Сандуны. Особенности национального досуга
DESCRIPTION:Сила Сандунов – подарил им своё имя\, река Неглинная – местоположение\, Верочка Фирсанова – построила дворец. Царь-баня. Сандуны. Шаляпин хотел их взять с собой в Париж. Экскурсия по «Банному дворцу» покажет нам\, куда хоть раз в жизни должен попасть настоящий мужчина и обязательно должна побывать женщина\, чтобы понять – почему мужчины так любят баню. Тем более\, что сделать это женщины могут только на нашей экскурсии\, в апартаменты высшего мужского разряда женщин не пускают!\nШаляпин там… пел! Просто от удовольствия. Например\, “Волга\, Волга — мать родная”. Причем его бас вдохновлял даже безголосых\, которые дружно подтягивали песню и стройными рядами следовали в помывочную. Русская баня – это много более\, чем просто мытье. Это особый ритуал и отдых\, и лечение\, и удовольствие\, словом\, часть образа жизни. В Сандунах вы по достоинству оцените банный «Версаль» Сандуновского зала\, знаменитый шикарный бассейн\, в котором снимались самые популярные советские и российские фильмы\, изумительную красоту банного «театра» и конечно увлекательные реальные истории и случаи в бане из жизни знаменитых людей.
URL:https://xn--b1aghaiacprbijlcgx0o.xn--p1ai/event/3426
LOCATION:у входа в Высший мужской разряд по адресу  ул.Неглинная\, д.14\,стр.4
CATEGORIES:Telegram
END:VEVENT
BEGIN:VEVENT
DTSTART;TZID=Europe/Moscow:20240625T190000
DTEND;TZID=Europe/Moscow:20240625T210000
DTSTAMP:20260422T052952
CREATED:20240624T191646Z
LAST-MODIFIED:20240624T193150Z
UID:3650-1719342000-1719349200@xn--b1aghaiacprbijlcgx0o.xn--p1ai
SUMMARY:Анастасия Ефимова. Как спрятать сердце Москвы: маскировка Кремля во время ВОВ
DESCRIPTION:Во время ВОВ стереть с лица земли Москву\, а тем более Кремль\, было приоритетной\, можно даже сказать сакральной\, задачей для Гитлера. \nКонечно же на подступах к Москве были развернуты войска противовоздушной обороны\, в самой Москве стояли зенитчики\, были истребители\, но не только это способствовало тому\, что сегодня мы можем гулять по Красной площади и любоваться древним Кремлем. \nЧтобы немецкая авиация не смогла разбомбить Кремль было принято решение о его маскировке. Долгое время информация о том\, как маскировали Кремль\, находилась под грифом “секретно”\, и только в 2010 году часть документов рассекретили\, поэтому мы можем об этом узнать. \nВо время экскурсии мы пройдем от Красной до Театральной площади и попробуем представить себя в роли участников тех событий. \nНа экскурсии вы увидите:\n– как именно маскировали Кремль (процесс маскировки на фото)\n– какие объекты Кремля предстояло спрятать от прицелов опытных немецких летчиков\n– уникальные фотографии военной Москвы\, сделанные американским фотографом Маргарет Бурк-Уайт\n– копии документов\, в соответствии с которыми маскировали Кремль \nА также узнаете:\n– какие способы маскировки использовали\n– как получилось так\, что на кинохронике парада 7 ноября 1941 г. Кремль не замаскирован?\n– куда на территорию Кремля все-таки упали бомбы\, и что они повредили\n– какой единственный музей работал во время войны\, и какие выставки в нем проходили\n– какие еще здания Москвы подлежали маскировке\, и что такое светомаскировка\n– куда эвакуировали тело Ленина\, и что еще отправилось вместе с ним\n– неужели Кремль был заминирован… \nЗапись в телеграм @efimova_av \nБольше новостей на канале https://t.me/poidemposmotrim
URL:https://xn--b1aghaiacprbijlcgx0o.xn--p1ai/event/3650
LOCATION:Красная площадь\, около памятника Минину и Пожарскому (у ограды)
CATEGORIES:Telegram
END:VEVENT
END:VCALENDAR