BEGIN:VCALENDAR
VERSION:2.0
PRODID:-//Календарь экскурсий и мероприятий в Москве - ECPv6.14.1//NONSGML v1.0//EN
CALSCALE:GREGORIAN
METHOD:PUBLISH
X-WR-CALNAME:Календарь экскурсий и мероприятий в Москве
X-ORIGINAL-URL:https://xn--b1aghaiacprbijlcgx0o.xn--p1ai
X-WR-CALDESC:Мероприятия для Календарь экскурсий и мероприятий в Москве
REFRESH-INTERVAL;VALUE=DURATION:PT1H
X-Robots-Tag:noindex
X-PUBLISHED-TTL:PT1H
BEGIN:VTIMEZONE
TZID:Europe/Moscow
BEGIN:STANDARD
TZOFFSETFROM:+0300
TZOFFSETTO:+0300
TZNAME:MSK
DTSTART:20240101T000000
END:STANDARD
END:VTIMEZONE
BEGIN:VEVENT
DTSTART;TZID=Europe/Moscow:20240629T130000
DTEND;TZID=Europe/Moscow:20240629T143000
DTSTAMP:20260422T060224
CREATED:20240628T071153Z
LAST-MODIFIED:20240628T071153Z
UID:3658-1719666000-1719671400@xn--b1aghaiacprbijlcgx0o.xn--p1ai
SUMMARY:Татьяна Салуцкая. Экскурсия «Как увидеть Европу\, не покидая Москву? Богатство архитектуры Китай-города»
DESCRIPTION:Мы будем гулять по историческому Китай-городу\, познакомимся с мировыми архитектурным стилями\, которые всегда отражали дух эпохи и увидим черты европейских городов. Встретим Рим\, Вену\, Монте-Карло\, Брюссель и Милан – и все в одном городе\, в одном районе и даже на одной улице!  \nНа экскурсии вы узнаете: \n🔹какие из европейских архитектурных шедевров\nнаходятся в Китай-городе\n🔹что за технологии скрываются за фасадом 120 летнего дома\n🔹чему могли бы поучиться современные маркетплейсы у купца начала 20 века\n🔹как связаны русский стиль и Европа\n🔹какие подсказки для нас прячутся на фасадах домов \nи многое другое! \nВас ждёт насыщенная 1\,5 часовая прогулка по богатейшему району нашего города.
URL:https://xn--b1aghaiacprbijlcgx0o.xn--p1ai/event/3658
LOCATION:у выхода №1 м. Китай-город
CATEGORIES:Telegram
END:VEVENT
END:VCALENDAR