BEGIN:VCALENDAR
VERSION:2.0
PRODID:-//Календарь экскурсий и мероприятий в Москве - ECPv6.14.1//NONSGML v1.0//EN
CALSCALE:GREGORIAN
METHOD:PUBLISH
X-ORIGINAL-URL:https://xn--b1aghaiacprbijlcgx0o.xn--p1ai
X-WR-CALDESC:Мероприятия для Календарь экскурсий и мероприятий в Москве
REFRESH-INTERVAL;VALUE=DURATION:PT1H
X-Robots-Tag:noindex
X-PUBLISHED-TTL:PT1H
BEGIN:VTIMEZONE
TZID:Europe/Moscow
BEGIN:STANDARD
TZOFFSETFROM:+0300
TZOFFSETTO:+0300
TZNAME:MSK
DTSTART:20240101T000000
END:STANDARD
END:VTIMEZONE
BEGIN:VEVENT
DTSTART;TZID=Europe/Moscow:20240701T190000
DTEND;TZID=Europe/Moscow:20240701T210000
DTSTAMP:20260421T224530
CREATED:20240701T081554Z
LAST-MODIFIED:20240701T081554Z
UID:3662-1719860400-1719867600@xn--b1aghaiacprbijlcgx0o.xn--p1ai
SUMMARY:Ольга Зотова. Кольцо Центральных площадей\, 2 маршрут
DESCRIPTION:1 июля в понедельник пройдем по первому кольцу Москвы.  \nКольцо центральных площадей образовано в ходе реконструкции территории\, прилегающей с внешней стороны к стенам двух древнейших крепостей Москвы – Кремля и Китай-города. Понятие до конца не сформировалось\, поэтому иногда кольцом центральных площадей называют площади вокруг Кремля\, или только вокруг утраченных Китайгородских стен.\nНа маршруте встречаются улицы\, которые сохранили в своем названии слово площадь\, но которые таковыми уже не являются.\nАктуальность:\nЭкскурсия проходит по красивейшим площадям центра Москвы. Небольшой маршрут насыщен памятниками истории и архитектуры\, значимыми объектами\, позволяет познакомиться и понять средневековую структуру городу. На маршруте традиционно размещаются главные площадки городских фестивалей.
URL:https://xn--b1aghaiacprbijlcgx0o.xn--p1ai/event/3662
LOCATION:м. Библиотека имени Ленина\, выход 4\, у памятника Достоевскому на лавочке
CATEGORIES:Telegram
ORGANIZER;CN="%D0%9E%D0%BB%D1%8C%D0%B3%D0%B0 %D0%97%D0%BE%D1%82%D0%BE%D0%B2%D0%B0":MAILTO:olga@zotova.org
END:VEVENT
END:VCALENDAR