BEGIN:VCALENDAR
VERSION:2.0
PRODID:-//Календарь экскурсий и мероприятий в Москве - ECPv6.14.1//NONSGML v1.0//EN
CALSCALE:GREGORIAN
METHOD:PUBLISH
X-ORIGINAL-URL:https://xn--b1aghaiacprbijlcgx0o.xn--p1ai
X-WR-CALDESC:Мероприятия для Календарь экскурсий и мероприятий в Москве
REFRESH-INTERVAL;VALUE=DURATION:PT1H
X-Robots-Tag:noindex
X-PUBLISHED-TTL:PT1H
BEGIN:VTIMEZONE
TZID:Europe/Moscow
BEGIN:STANDARD
TZOFFSETFROM:+0300
TZOFFSETTO:+0300
TZNAME:MSK
DTSTART:20240101T000000
END:STANDARD
END:VTIMEZONE
BEGIN:VEVENT
DTSTART;TZID=Europe/Moscow:20240713T080000
DTEND;TZID=Europe/Moscow:20240713T230000
DTSTAMP:20260421T200055
CREATED:20240708T115340Z
LAST-MODIFIED:20240708T115340Z
UID:3728-1720857600-1720911600@xn--b1aghaiacprbijlcgx0o.xn--p1ai
SUMMARY:Ирина Чугунова. Пешком в Гремячий ключ от Троице-Сергиевой лавры
DESCRIPTION:Гремячий ключ – одна из самых главных достопримечательностей\, связанная с именем Преподобного Сергия Радонежского. Согласно легенде\, водопад Гремячий ключ возник благодаря молитве Преподобного Сергия\, который вместе со своим учеником Романом на пути из Троицы в Киржач остановился в этом месте для отдыха. С тех пор в этом месте бьют целебные ключи\, а поток паломников и туристов к нему не иссякает. \nСегодня Гремячий ключ – подворье Троице-Сергиевой лавры. На территории подворья находятся три храма\, трапезные и гостиница\, оборудованы купели и раздевалки. Со склона холма бьют ключи\, не менее 10 струй стекают со склона в речку Вондигу. Круглый год температура воды +6 градусов. Желающие могут окунуться в купель в полный рост\, постоять под струей воды или умыться\, попить водички\, набрать бутылку с собой. \nМаршрут от Свято-Троицкой Сергиевой лавры до Гремячего ключа длиной 20 километров. По дороге мы познакомимся с другими монашескими обителями\, созданными для уединения монахами Троице-Сергиевой лавры:\n•  Боголюбская киновия\n•  Черниговский Гефсиманский скит\n•  Параклитова пустынь \nВстречаемся: в 8:00 у табло на Ярославском вокзале \nДополнительные расходы:\n– электричка до Сергиева Посада и обратно 556 руб.\n– питание на маршруте в трапезных и кафе (можно взять перекус с собой) \nРегистрация:  https://t.me/Irina_Chugunova_Msk
URL:https://xn--b1aghaiacprbijlcgx0o.xn--p1ai/event/3728
LOCATION:Ярославский вокзал
CATEGORIES:Telegram
END:VEVENT
BEGIN:VEVENT
DTSTART;TZID=Europe/Moscow:20240713T160000
DTEND;TZID=Europe/Moscow:20240713T180000
DTSTAMP:20260421T200055
CREATED:20240711T045223Z
LAST-MODIFIED:20240711T045223Z
UID:3731-1720886400-1720893600@xn--b1aghaiacprbijlcgx0o.xn--p1ai
SUMMARY:Ирина Чижевская. Измайлово - остров Романовых
DESCRIPTION:*13 Июля\, в 16:00 гуляем с Ириной Чижевской по удивительному Измайловскому острову*‼️ В Москве есть старинное\, очень камерное\, тихое и при этом безумно атмосферное место. Это Измайлово – старинная царская 🤴🏻 резиденция и не только\, которая начиналась\, как дворянская усадьба\, пожалованная Иваном Грозным своему шурину 🧚🏾‍♂️. Здесь устраивал соколиную охоту царь Алексей Михайлович\, строил башни и теремные дворцы его сын царь Федор Алексеевич\, а Петр I приезжал к вдове своего брата разгонять тоску 🕺🏻. Грандиозный собор помнит и великих живописцев 👨🏻‍🎨 и войска Наполеона\,  живописный серебряный пруд 🌊 помнит и прекрасных царевен играющих с рыбками\, и юного Петрушу осваивающего искусство навигации ⛵. Но и в 20-м веке жизнь острова была насыщенна\, первые коммунары\, рабочие в хоромах 19-го века и даже вытрезвитель…🍺\nПервое усадебное хозяйство устроенное на европейский манер\, уникальные изразцы\, стекольный и кирпичный заводы 🏭\, зверинец и даже бассейн. Поверьте этому острову есть чем вас удивить в своей тиши и прохладе…  🪙
URL:https://xn--b1aghaiacprbijlcgx0o.xn--p1ai/event/3731
LOCATION:Встреча: выход из метро Партизанская. На улице
CATEGORIES:Telegram
END:VEVENT
END:VCALENDAR