BEGIN:VCALENDAR
VERSION:2.0
PRODID:-//Календарь экскурсий и мероприятий в Москве - ECPv6.14.1//NONSGML v1.0//EN
CALSCALE:GREGORIAN
METHOD:PUBLISH
X-ORIGINAL-URL:https://xn--b1aghaiacprbijlcgx0o.xn--p1ai
X-WR-CALDESC:Мероприятия для Календарь экскурсий и мероприятий в Москве
REFRESH-INTERVAL;VALUE=DURATION:PT1H
X-Robots-Tag:noindex
X-PUBLISHED-TTL:PT1H
BEGIN:VTIMEZONE
TZID:Europe/Moscow
BEGIN:STANDARD
TZOFFSETFROM:+0300
TZOFFSETTO:+0300
TZNAME:MSK
DTSTART:20240101T000000
END:STANDARD
END:VTIMEZONE
BEGIN:VEVENT
DTSTART;TZID=Europe/Moscow:20240724T190000
DTEND;TZID=Europe/Moscow:20240724T210000
DTSTAMP:20260421T201357
CREATED:20240722T080946Z
LAST-MODIFIED:20240722T080946Z
UID:3775-1721847600-1721854800@xn--b1aghaiacprbijlcgx0o.xn--p1ai
SUMMARY:Вероника Бореславская. Букет московской парфюмерии
DESCRIPTION:Приглашаю в среду 24 июля в 19:00 на экскурсию «Букет московской парфюмерии» — прогулка по центру столицы со шлейфом истории.   \nПрогуляемся по центру Москвы с целью понять и ощутить\, какими благовонными средствами пользовались в прошлом\, кто занимался их продажей и производством\, и как на это повлиял ход истории. \nМаршрут\nВстречаемся у метро «Лубянка»\, гуляем в районе улиц Неглинная\, Кузнецкий мост\, Театральная площадь и заканчиваем на Никольской. \nОписание\n🔺Поговорим о запахах\, с которыми ассоциируется образ России\, о гигиенических привычках и модных тенденциях прошлого.  \n🔺Пройдёмся по местам\, где можно было приобрести лучшие ароматы в Москве\, и узнаем\, какое отношение к парфюмерии имели баня\, театр и аптека. \n🔺Узнаем о первых московских производителях парфюмерии и хитростях\, к которым они прибегали в конкурентной борьбе\, о всенародном и всемирном признании отечественной продукции. \n🔺Расскажу о том\, кто придумал мыло для народа\, что объединяет духи «Красная Москва» и «Chanel №5»\, и сколько косметических средств нужно было для счастья советскому человеку.  \n🔺Рассмотрим старые фотографии\, подержим в руках подлинные образцы дореволюционной упаковки и рекламы. Продегустируем реконструированные исторические\, винтажные и современные ароматы. \nВ подарок получите пробник одного из демонстрируемых парфюмов\, который завоевал гран-при на Всемирной выставке в Париже в 1900 году! \nОрганизационные детали \nВо время экскурсии используются индивидуальные приемники с наушником в комплекте. Вы можете взять с собой собственные проводные наушники.  \nТочное указание места встречи получите при регистрации. \nПродолжительность \n2-2\,5 часа \nСтоимость: 800р с человека  \nБИЛЕТЫ
URL:https://xn--b1aghaiacprbijlcgx0o.xn--p1ai/event/3775
LOCATION:метро «Лубянка»
CATEGORIES:Telegram
END:VEVENT
BEGIN:VEVENT
DTSTART;TZID=Europe/Moscow:20240724T190000
DTEND;TZID=Europe/Moscow:20240724T210000
DTSTAMP:20260421T201357
CREATED:20240723T170517Z
LAST-MODIFIED:20240723T170517Z
UID:3795-1721847600-1721854800@xn--b1aghaiacprbijlcgx0o.xn--p1ai
SUMMARY:Анастасия Ефимова. Как спрятать сердце Москвы: маскировка Кремля во время ВОВ
DESCRIPTION:Во время ВОВ стереть с лица земли Москву\, а тем более Кремль\, было приоритетной\, можно даже сказать сакральной\,  задачей для Гитлера. \nКонечно же на подступах к Москве были развернуты войска противовоздушной обороны\, в самой Москве стояли зенитчики\, были истребители\, но не только это способствовало тому\, что сегодня мы можем гулять по Красной площади и любоваться древним Кремлем.  \nЧтобы немецкая авиация не смогла разбомбить Кремль было принято решение о его маскировке.  Долгое время информация о том\, как маскировали Кремль\, находилась под грифом “секретно”\, и только в 2010 году часть документов рассекретили\, поэтому мы можем об этом узнать.  \nВо время экскурсии мы пройдем от Красной до Театральной площади и попробуем представить себя в роли участников тех событий.  \nНа экскурсии вы увидите:\n– как именно маскировали Кремль (процесс маскировки на фото)\n– какие объекты Кремля предстояло спрятать от прицелов опытных немецких летчиков\n– уникальные фотографии военной Москвы\, сделанные американским фотографом Маргарет Бурк-Уайт\n – копии  документов\,  в соответствии с которыми маскировали Кремль \nА также узнаете:\n– какие способы маскировки использовали\n– как получилось так\, что на кинохронике парада 7 ноября 1941  г. Кремль не замаскирован?\n– куда на территорию Кремля все-таки упали бомбы\, и что они повредили\n– какой единственный музей работал во время войны\, и какие выставки в нем проходили\n– какие еще здания Москвы подлежали маскировке\, и что такое светомаскировка\n– куда эвакуировали тело Ленина\, и что еще отправилось вместе с ним\n– неужели Кремль был заминирован…
URL:https://xn--b1aghaiacprbijlcgx0o.xn--p1ai/event/3795
LOCATION:Красная площадь\, около памятника Минину и Пожарскому (у ограды)
CATEGORIES:Telegram
END:VEVENT
END:VCALENDAR