BEGIN:VCALENDAR
VERSION:2.0
PRODID:-//Календарь экскурсий и мероприятий в Москве - ECPv6.14.1//NONSGML v1.0//EN
CALSCALE:GREGORIAN
METHOD:PUBLISH
X-ORIGINAL-URL:https://xn--b1aghaiacprbijlcgx0o.xn--p1ai
X-WR-CALDESC:Мероприятия для Календарь экскурсий и мероприятий в Москве
REFRESH-INTERVAL;VALUE=DURATION:PT1H
X-Robots-Tag:noindex
X-PUBLISHED-TTL:PT1H
BEGIN:VTIMEZONE
TZID:Europe/Moscow
BEGIN:STANDARD
TZOFFSETFROM:+0300
TZOFFSETTO:+0300
TZNAME:MSK
DTSTART:20240101T000000
END:STANDARD
END:VTIMEZONE
BEGIN:VEVENT
DTSTART;TZID=Europe/Moscow:20240809T083000
DTEND;TZID=Europe/Moscow:20240809T200000
DTSTAMP:20260422T010747
CREATED:20240801T233759Z
LAST-MODIFIED:20240801T233759Z
UID:3845-1723192200-1723233600@xn--b1aghaiacprbijlcgx0o.xn--p1ai
SUMMARY:Ирина Чугунова. Дорога в Лавру: из Радонежа в Сергиев Посад
DESCRIPTION:«Дорога в Лавру» – исторический паломнический путь от Московского Кремля до Троице-Сергиевой лавры. По этому пути ходил Сергий Радонежский\, Дмитрий Донской. Князья\, цари\, царицы и простые люди проходили эту дорогу пешком. Отправлялись в Троицкий монастырь\, а позднее в Лавру\, за благословением\, с просьбой или благодарностью. \nСегодня этот путь длиной 120 километров проходит через природные зоны\, духовные и культурные достопримечательности Москвы и Подмосковья.\nПриглашаю пройти завершающие 20 километров этой дороги из Радонежа в Сергиев Посад. Именно здесь шел преподобный Сергий Радонежский\, выбирая место для основания обители\, будущей Троице-Сергиевой лавры. \nСергий Радонежский\, родившийся в 1314 году\, в юности со своей семьей переехал в селение Радонеж\, находившееся тогда на окраине Московского княжества.  После кончины родителей\, ища уединения и духовного подвига\, Сергий покинул Радонеж и ушел в густые леса Московской области. Вместе с братом Стефаном в лесу построил скромную келью и маленькую деревянную церковь\, посвященную Святой Троице. Несмотря на тяжелые условия и одиночество\, преданность Сергия привлекала последователей\, и со временем вокруг скромной обители образовался процветающий монастырь. Этот монастырь стал одним из самых важных религиозных центров России\, известным сегодня как Троице-Сергиева лавра. \nМы отправимся путем Преподобного Сергия\, а по дороге сможем:\n– окунуться в купель святого источника и напиться воды в Радонеже;\n– заглянуть в Парк Приключений – самый большой веревочный парк Подмосковья;\n– познакомиться с жилищами\, бытом\, культурой кочевых народов в этнопарке «Кочевник»;\n– пройти по дорогам различных эпох в Музее дороги и отдохнуть на постоялом дворе. \nНаш путь пройдет по тропинке Александра Меня – мимо дома\, музея\, места гибели священника.\nПравославные святыни – церкви\, часовни\, источники будем встречать на пути. К вечеру дорога приведет к главной цели нашего путешествия – Свято-Троицкой Сергиевой Лавре. \nОрганизационные детали:\nВстречаемся у пригородных касс Ярославского вокзала г. Москвы\nЕдем на электричке до станции Хотьково\, возвращаемся от Сергиев Посада\, билеты участники оплачивают самостоятельно (билет туда-обратно 522 руб.)\nС собой берем бутылку для воды и продукты для перекуса\nОдеваемся по погоде: удобная обувь и дождевик\, в случае прогноза дождя – запасной комплект сухой одежды
URL:https://xn--b1aghaiacprbijlcgx0o.xn--p1ai/event/3845
LOCATION:У пригородных касс Ярославского вокзала
CATEGORIES:Telegram
END:VEVENT
END:VCALENDAR