BEGIN:VCALENDAR
VERSION:2.0
PRODID:-//Календарь экскурсий и мероприятий в Москве - ECPv6.14.1//NONSGML v1.0//EN
CALSCALE:GREGORIAN
METHOD:PUBLISH
X-WR-CALNAME:Календарь экскурсий и мероприятий в Москве
X-ORIGINAL-URL:https://xn--b1aghaiacprbijlcgx0o.xn--p1ai
X-WR-CALDESC:Мероприятия для Календарь экскурсий и мероприятий в Москве
REFRESH-INTERVAL;VALUE=DURATION:PT1H
X-Robots-Tag:noindex
X-PUBLISHED-TTL:PT1H
BEGIN:VTIMEZONE
TZID:Europe/Moscow
BEGIN:STANDARD
TZOFFSETFROM:+0300
TZOFFSETTO:+0300
TZNAME:MSK
DTSTART:20240101T000000
END:STANDARD
END:VTIMEZONE
BEGIN:VEVENT
DTSTART;TZID=Europe/Moscow:20240914T170000
DTEND;TZID=Europe/Moscow:20240914T183000
DTSTAMP:20260422T133727
CREATED:20240910T062916Z
LAST-MODIFIED:20240910T062916Z
UID:3924-1726333200-1726338600@xn--b1aghaiacprbijlcgx0o.xn--p1ai
SUMMARY:Анастасия Прокофьева. Групповая экскурсия "Район Красных фонарей" (группа до 12 человек)
DESCRIPTION:В современной России проституция не легализована\, но ещё 127 лет назад это был один из официальных способов заработка денег\, контролирующийся государством. В каждом городе Российской империи  существовал свой квартал Красных фонарей\, в Москве – район современных станций метро Сухаревская и Трубная. \nМы с вами прогуляемся по улицам\, куда до революции съезжались сотни мужчин. Вы увидите сооружение\, в котором располагался “дом терпимости”(бордель) с знаменитой «турецкой комнатой»\, особняк\, где жила Эллочка Людоедка и трущобы 19 века. А в процессе прогулки поговорим о периоде истории\, когда московские куртизанки  могли работать официально и платили налоги. \nМы погрузимся в историю запретной Москвы и разберемся: \n✅на какие категории делились публичные дома и для какого они были предназначены;\n✅сколько зарабатывали куртизанки в дореволюционной Москве;\n✅кем были «камелии»;\n✅кто из русских писателей проживал в этом районе;\n✅в каком борделе обслуживали старообрядцев.
URL:https://xn--b1aghaiacprbijlcgx0o.xn--p1ai/event/3924
LOCATION:У вкусно и точка\, метро Сухаревская\, выход 1.
CATEGORIES:Telegram
END:VEVENT
END:VCALENDAR