BEGIN:VCALENDAR
VERSION:2.0
PRODID:-//Календарь экскурсий и мероприятий в Москве - ECPv6.14.1//NONSGML v1.0//EN
CALSCALE:GREGORIAN
METHOD:PUBLISH
X-WR-CALNAME:Календарь экскурсий и мероприятий в Москве
X-ORIGINAL-URL:https://xn--b1aghaiacprbijlcgx0o.xn--p1ai
X-WR-CALDESC:Мероприятия для Календарь экскурсий и мероприятий в Москве
REFRESH-INTERVAL;VALUE=DURATION:PT1H
X-Robots-Tag:noindex
X-PUBLISHED-TTL:PT1H
BEGIN:VTIMEZONE
TZID:Europe/Moscow
BEGIN:STANDARD
TZOFFSETFROM:+0300
TZOFFSETTO:+0300
TZNAME:MSK
DTSTART:20260101T000000
END:STANDARD
END:VTIMEZONE
BEGIN:VEVENT
DTSTART;TZID=Europe/Moscow:20260430T140000
DTEND;TZID=Europe/Moscow:20260430T160000
DTSTAMP:20260423T171646
CREATED:20260423T125731Z
LAST-MODIFIED:20260423T125731Z
UID:5215-1777557600-1777564800@xn--b1aghaiacprbijlcgx0o.xn--p1ai
SUMMARY:Надежда Бубнова. Архитектурный коктейль Никиских
DESCRIPTION:На Большой и Малой забульварных Никитских сохранились не только дворянские классические усадьбы\, но и много домов\, возведенных богатой московской буржуазией конца XIX-начала XX вв. Что-то было построено в советские времена.  \nВ результате смешался прекрасный коктейль из разностильных и разновременных построек\, которым мы будем наслаждаться.  \nРазберем особенности:\n✔️ русского узорочья XVII в.\n✔️ классицизма\n✔️ эклектики\n✔️ неорусского стиля\n✔️ модерна\n✔️ ар-деко\n✔️ сталинского ампира. \nУвидим церковь\, усадьбы\, особняки\, доходные\, общественные и жилые дома\, созданные в разные времена талантливыми архитекторами в разных стилях.
URL:https://xn--b1aghaiacprbijlcgx0o.xn--p1ai/event/5215
LOCATION:Площадь Никитские ворота. Фонтан Наталья и Александр
CATEGORIES:Telegram
END:VEVENT
BEGIN:VEVENT
DTSTART;TZID=Europe/Moscow:20260430T140000
DTEND;TZID=Europe/Moscow:20260430T160000
DTSTAMP:20260423T171646
CREATED:20260423T125734Z
LAST-MODIFIED:20260423T125734Z
UID:5216-1777557600-1777564800@xn--b1aghaiacprbijlcgx0o.xn--p1ai
SUMMARY:Надежда Бубнова. Архитектурный коктейль Никиских
DESCRIPTION:На Большой и Малой забульварных Никитских сохранились не только дворянские классические усадьбы\, но и много домов\, возведенных богатой московской буржуазией конца XIX-начала XX вв. Что-то было построено в советские времена.  \nВ результате смешался прекрасный коктейль из разностильных и разновременных построек\, которым мы будем наслаждаться.  \nРазберем особенности:\n✔️ русского узорочья XVII в.\n✔️ классицизма\n✔️ эклектики\n✔️ неорусского стиля\n✔️ модерна\n✔️ ар-деко\n✔️ сталинского ампира. \nУвидим церковь\, усадьбы\, особняки\, доходные\, общественные и жилые дома\, созданные в разные времена талантливыми архитекторами в разных стилях.
URL:https://xn--b1aghaiacprbijlcgx0o.xn--p1ai/event/5216
LOCATION:Площадь Никитские ворота. Фонтан Наталья и Александр
CATEGORIES:Telegram
END:VEVENT
BEGIN:VEVENT
DTSTART;TZID=Europe/Moscow:20260502T120000
DTEND;TZID=Europe/Moscow:20260502T140000
DTSTAMP:20260423T171646
CREATED:20260415T104349Z
LAST-MODIFIED:20260415T104349Z
UID:5206-1777723200-1777730400@xn--b1aghaiacprbijlcgx0o.xn--p1ai
SUMMARY:Ольга Даньшина. Царский след: тайны Государева двора в Коломенском
DESCRIPTION:Легендарное Коломенское ждет вас! Отправимся на экскурсию по самой душевной резиденции русских царей. 💫 \nВы погрузитесь в эпоху могущественных Рюриковичей и блистательных Романовых. Прикоснетесь к культуре и традициям\, которые творили историю России\, и увидите знаменитые достопримечательности с совершенно нового ракурса. \nВо время экскурсии вы: \n🔹 Узнайте\, как жили и правили русские князья и цари – от Ивана Калиты до Алексея Михайловича. \n🔹 Погрузитесь в историю древних построек\, сохранивших дух эпохи: от Дворцовых ворот до Приказных палат. \n🔹 Раскройте секреты крестьянского быта и царских забав.\n🔹 Прикоснитесь к загадочному валуну – свидетелю легенд и преданий.   \nЭто будет прогулка\, полная эмоций и открытий!
URL:https://xn--b1aghaiacprbijlcgx0o.xn--p1ai/event/5206
LOCATION:м. Коломенская\, вход номер 1 музей заповедник Коломенское
CATEGORIES:Telegram
END:VEVENT
BEGIN:VEVENT
DTSTART;TZID=Europe/Moscow:20260502T120000
DTEND;TZID=Europe/Moscow:20260502T140000
DTSTAMP:20260423T171646
CREATED:20260415T104351Z
LAST-MODIFIED:20260415T104351Z
UID:5207-1777723200-1777730400@xn--b1aghaiacprbijlcgx0o.xn--p1ai
SUMMARY:Ольга Даньшина. Царский след: тайны Государева двора в Коломенском
DESCRIPTION:Легендарное Коломенское ждет вас! Отправимся на экскурсию по самой душевной резиденции русских царей. 💫 \nВы погрузитесь в эпоху могущественных Рюриковичей и блистательных Романовых. Прикоснетесь к культуре и традициям\, которые творили историю России\, и увидите знаменитые достопримечательности с совершенно нового ракурса. \nВо время экскурсии вы: \n🔹 Узнайте\, как жили и правили русские князья и цари – от Ивана Калиты до Алексея Михайловича. \n🔹 Погрузитесь в историю древних построек\, сохранивших дух эпохи: от Дворцовых ворот до Приказных палат. \n🔹 Раскройте секреты крестьянского быта и царских забав.\n🔹 Прикоснитесь к загадочному валуну – свидетелю легенд и преданий.   \nЭто будет прогулка\, полная эмоций и открытий!
URL:https://xn--b1aghaiacprbijlcgx0o.xn--p1ai/event/5207
LOCATION:м. Коломенская\, вход номер 1 музей заповедник Коломенское
CATEGORIES:Telegram
END:VEVENT
BEGIN:VEVENT
DTSTART;TZID=Europe/Moscow:20260502T120000
DTEND;TZID=Europe/Moscow:20260502T140000
DTSTAMP:20260423T171646
CREATED:20260415T104410Z
LAST-MODIFIED:20260415T104410Z
UID:5208-1777723200-1777730400@xn--b1aghaiacprbijlcgx0o.xn--p1ai
SUMMARY:Ольга Даньшина. Царский след: тайны Государева двора в Коломенском
DESCRIPTION:Легендарное Коломенское ждет вас! Отправимся на экскурсию по самой душевной резиденции русских царей. 💫 \nВы погрузитесь в эпоху могущественных Рюриковичей и блистательных Романовых. Прикоснетесь к культуре и традициям\, которые творили историю России\, и увидите знаменитые достопримечательности с совершенно нового ракурса. \nВо время экскурсии вы: \n🔹 Узнайте\, как жили и правили русские князья и цари – от Ивана Калиты до Алексея Михайловича. \n🔹 Погрузитесь в историю древних построек\, сохранивших дух эпохи: от Дворцовых ворот до Приказных палат. \n🔹 Раскройте секреты крестьянского быта и царских забав.\n🔹 Прикоснитесь к загадочному валуну – свидетелю легенд и преданий.   \nЭто будет прогулка\, полная эмоций и открытий!
URL:https://xn--b1aghaiacprbijlcgx0o.xn--p1ai/event/5208
LOCATION:м. Коломенская\, вход номер 1 музей заповедник Коломенское
CATEGORIES:Telegram
END:VEVENT
BEGIN:VEVENT
DTSTART;TZID=Europe/Moscow:20260503T110000
DTEND;TZID=Europe/Moscow:20260503T143000
DTSTAMP:20260423T171646
CREATED:20260423T125748Z
LAST-MODIFIED:20260423T125748Z
UID:5218-1777806000-1777818600@xn--b1aghaiacprbijlcgx0o.xn--p1ai
SUMMARY:Надежда Бубнова. Пять веков Ордынок
DESCRIPTION:Прогуляемся по Большой и Малой Ордынкам. Проследим\, как Замоскворечье эволюционировало от слобод с церквями в центре к небольшим и крупным усадьбам\, доходным домам\, советским многоэтажным постройкам.\nОщутим ауру той части Москвы\, где по Белинскому дома были похожи на «крепостцы\, приготовившиеся выдержать долговременную осаду».\nПорадуемся\, что этот заповедный район сохранил свой облик\, несмотря на грандиозные планы его реконструкции. \nВыпьем чаю в историческом здании.
URL:https://xn--b1aghaiacprbijlcgx0o.xn--p1ai/event/5218
LOCATION:ст. м. Третьяковская. У “Вкусно у точка”
CATEGORIES:Telegram
END:VEVENT
BEGIN:VEVENT
DTSTART;TZID=Europe/Moscow:20260503T150000
DTEND;TZID=Europe/Moscow:20260503T170000
DTSTAMP:20260423T171646
CREATED:20260423T125750Z
LAST-MODIFIED:20260423T125750Z
UID:5220-1777820400-1777827600@xn--b1aghaiacprbijlcgx0o.xn--p1ai
SUMMARY:Надежда Бубнова. Были и небыли Бронных
DESCRIPTION:Погрузимся в историю главных улиц Бронной слободы на основе реальных событий и преданий.\nЭто не лекция\, а жизнь Большой и Малой Бронных\, которую мы будем восстанавливать и разбирать.  Кто здесь обосновался и как существовал в разные времена? Какие легенды сохранились? Нашей любимой фразой будет: «Говорят\, что…».\nКак написал один мой гость – не любитель экскурсий: «лично для меня\, все эти темы взаимосвязаны. Все о Добре и Зле. О их вечном противостоянии».\nПоболтаем\, посмеемся и даже сфотографируемся по вашему желанию.
URL:https://xn--b1aghaiacprbijlcgx0o.xn--p1ai/event/5220
LOCATION:Новопушкинский сквер у фонтана
CATEGORIES:Telegram
END:VEVENT
BEGIN:VEVENT
DTSTART;TZID=Europe/Moscow:20260509T140000
DTEND;TZID=Europe/Moscow:20260509T170000
DTSTAMP:20260423T171646
CREATED:20260421T055354Z
LAST-MODIFIED:20260421T055354Z
UID:5212-1778335200-1778346000@xn--b1aghaiacprbijlcgx0o.xn--p1ai
SUMMARY:Оксана Бухина. ВЕЛИКОЛЕПНОЕ КУСКОВО
DESCRIPTION:ВЕЛИКОЛЕПНОЕ КУСКОВО. \nЗАГАДКИ ТАЙНОГО БРАКА.\nЗа три года до венчания граф Николай Петрович Шереметев даровал вольную своей будущей супруге\, актрисе крепостного театра – Прасковье Ивановне Ковалевой. \nВенчание было тайным. Сам граф так напишет об этом бракосочетании : «угодно было Всемогущему Богу предопределить по сердцу моему\, чтобы я совокуплен был священными узами брака\, который по всем церковным обрядам и совершен был 1801 года ноября 6 в бытность мою в Москве в церкви Симеона Столпника\, что на Поварской. Сия законная супруга моя графиня Прасковья Ивановна Шереметева\, рожденная Ковалевская\, происходящая по неоспоримым письменным доказательства от древнего поколения польских шляхтичей Ковалевских…». \nПредрассудки высшего света в ту эпоху были причиной фальсификации «неоспоримых доказательств» дворянского происхождения крепостной Прасковьи Ковалевой\, дочери кузнеца. \nПосле смерти жены граф напишет (уже без оглядки на мнение общества)\, что именно душевные качества Прасковьи подвигли его : « попрать светское предубеждение а разсуждении знатности рода и избрать ее моею супругою. И чем бы я лучше мог пожертвовать сим ея достоинством и любви моей\, как не соединением сердец наших и состояния священными узами супружества». \nПрасковья умерла через 20 дней после рождения наследника – сына Дмитрия. А признался Николай Петрович Государю о том\, что он обвенчан с Прасковьей\, – за день до ее смерти.  Все в последний момент. \nПолучить официальное признание брака от Александра I  – было очень важно. \nПеред Богом они были венчаны\, а вот перед  людьми\, получается\, Прасковья Ивановна была графиней Шереметевой всего 1 день. \nНо вернемся к венчанию. И сам граф Николай Петрович и свидетели говорят о венчании в церкви Симеона Столпника на Поварской. \nОднако\, спустя два века\, были найдены документы – запись в метрической книге церкви Николая Чудотворца у Старого Каменного моста\, известной в Москве как «Никола в Сапожке». В «Книге брачных обысков» (запись обязательного опроса перед бракосочетанием) – сделана запись о венчании графа Николая Петровича Шереметева  и Прасковьи Ковалевской. \nПо просьбе Николая Петровича Митрополит Московский Платон (который любил Прасковью и их с графом брак благословил) подает в Святейший синод сведения для скорейшего оформления официального брака\, где дословно приводится запись из метрической книги церкви Николая Чудотворца. \nПолучается\, что так старались скрыть тайну венчания\, что само венчание проходило в церкви Симеона Столпника на Поварской\, а юридические документы были оформлены в церкви Николая Чудотворца. \nИстория любви графа Николая Борисовича Шереметева и крепостной актрисы Прасковьи Ковалевой – лишь одна страница из жизни  блистательной загородной увеселительной резиденции графского рода Шереметевых – Кусково. \nИзучать великолепное Кусково\,  интерьеры Дворца\,  Грот\, архитектурные «игрушки»\, парк\, говорить  о судьбах и тайнах графского рода Шереметевых – будем на 3х часовой экскурсии. \nПродолжительность 3 часа.\nПарк\, Дворец\, Грот. \nЭкскурсия проходит с радиогидами.
URL:https://xn--b1aghaiacprbijlcgx0o.xn--p1ai/event/5212
LOCATION:Усадьба Кусково\, ул.Юности\, дом 2
CATEGORIES:Telegram
END:VEVENT
BEGIN:VEVENT
DTSTART;TZID=Europe/Moscow:20260510T110000
DTEND;TZID=Europe/Moscow:20260510T143000
DTSTAMP:20260423T171646
CREATED:20260423T125751Z
LAST-MODIFIED:20260423T125751Z
UID:5222-1778410800-1778423400@xn--b1aghaiacprbijlcgx0o.xn--p1ai
SUMMARY:Надежда Бубнова. Коммерция в Китай-городе: от торговых рядов до банков
DESCRIPTION:Пройдем по самому центру Москвы – Москворецкой улице\, Красной площади\, Ильинке – именно здесь были сосредоточены торговые ряды\, склады\, гостиные дворы\, биржа\, а позже банки и страховые общества. Это часть Китай-города – посада к востоку от Кремля\, который со временем стал играть важную роль не только в московской\, но и во всероссийской торговле. Дореволюционные журналисты прозвали его московским Сити\, а Ильинку считали «главой авеню». \nПознакомимся с главными торгово-коммерческими местами Китай-города и поговорим об истории их трансформации во времени.
URL:https://xn--b1aghaiacprbijlcgx0o.xn--p1ai/event/5222
LOCATION:Парк «Зарядье» со стороны Москворецкой улицы перед въездом на подземную парковку
CATEGORIES:Telegram
END:VEVENT
BEGIN:VEVENT
DTSTART;TZID=Europe/Moscow:20260510T143000
DTEND;TZID=Europe/Moscow:20260510T163000
DTSTAMP:20260423T171646
CREATED:20260423T125752Z
LAST-MODIFIED:20260423T125752Z
UID:5224-1778423400-1778430600@xn--b1aghaiacprbijlcgx0o.xn--p1ai
SUMMARY:Надежда Бубнова. Ярчайшей Майи след. Зарисовки о Плисецкой.
DESCRIPTION:Воссоздадим образ Майи Плисецкой из отдельных историй как из кусочков пазла.\nА помогут в этом московские дома и места\, с которыми она соприкасалась.\nОт Кузнецкого моста\, петляя по самому центру\, дойдем до середины Тверской между Бульварным и Садовым кольцами. Чуть больше 3 км в сопровождении живых историй\, основанных на мемуарах балерины. \nВо время экскурсии  вы  узнаете:\n✔️ как Майя Плисецкая родилась вторично;\n✔️ что повлияло на ее прием в хореографическое училище;\n✔️ как складывалась карьера балерины;\n✔️ почему любимый Большой театр отучил Плисецкую спать;\n✔️ как обстояли дела с выплатой гонораров и перевозом наличных через таможенные границы во времена отсутствия пластиковых карт;\n✔️ какая постановка должна была укрепить кубинско-советскую дружбу;\n✔️ какую роль в жизни Плисецкой сыграли Клара\, Пьер и Коко. \nВы увидите:\n✔️ здание\, где располагался детский сад\, недолго посещавшийся рыжей Майечкой;\n✔️ дом\, в котором выступали ученики хореографического училища в последний предвоенный вечер;\n✔️ самый неочевидный вход в Большой театр;\n✔️ Министерство культуры и Госконцерт СССР;\n✔️ подарок бразильца балерине;\n✔️ дом\, где частенько собирался «Совет в Филях».
URL:https://xn--b1aghaiacprbijlcgx0o.xn--p1ai/event/5224
LOCATION:ст. м. Кузнецкий мост
CATEGORIES:Telegram
END:VEVENT
BEGIN:VEVENT
DTSTART;TZID=Europe/Moscow:20260517T110000
DTEND;TZID=Europe/Moscow:20260517T130000
DTSTAMP:20260423T171646
CREATED:20260423T125753Z
LAST-MODIFIED:20260423T125753Z
UID:5225-1779015600-1779022800@xn--b1aghaiacprbijlcgx0o.xn--p1ai
SUMMARY:Надежда Бубнова. Архитектурный коктейль Никитских
DESCRIPTION:На Большой и Малой забульварных Никитских сохранились не только дворянские классические усадьбы\, но и много домов\, возведенных богатой московской буржуазией конца XIX-начала XX вв. Что-то было построено в советские времена.  \nВ результате смешался прекрасный коктейль из разностильных и разновременных построек\, которым мы будем наслаждаться.  \nРазберем особенности:\n✔️ русского узорочья XVII в.\n✔️ классицизма\n✔️ эклектики\n✔️ неорусского стиля\n✔️ модерна\n✔️ ар-деко\n✔️ сталинского ампира. \nУвидим церковь\, усадьбы\, особняки\, доходные\, общественные и жилые дома\, созданные в разные времена талантливыми архитекторами в разных стилях.
URL:https://xn--b1aghaiacprbijlcgx0o.xn--p1ai/event/5225
LOCATION:Площадь Никитские ворота. Фонтан Наталья и Александр
CATEGORIES:Telegram
END:VEVENT
END:VCALENDAR