BEGIN:VCALENDAR
VERSION:2.0
PRODID:-//Календарь экскурсий и мероприятий в Москве - ECPv6.14.1//NONSGML v1.0//EN
CALSCALE:GREGORIAN
METHOD:PUBLISH
X-WR-CALNAME:Календарь экскурсий и мероприятий в Москве
X-ORIGINAL-URL:https://xn--b1aghaiacprbijlcgx0o.xn--p1ai
X-WR-CALDESC:Мероприятия для Календарь экскурсий и мероприятий в Москве
REFRESH-INTERVAL;VALUE=DURATION:PT1H
X-Robots-Tag:noindex
X-PUBLISHED-TTL:PT1H
BEGIN:VTIMEZONE
TZID:Europe/Moscow
BEGIN:STANDARD
TZOFFSETFROM:+0300
TZOFFSETTO:+0300
TZNAME:MSK
DTSTART:20240101T000000
END:STANDARD
END:VTIMEZONE
BEGIN:VEVENT
DTSTART;TZID=Europe/Moscow:20240421T130000
DTEND;TZID=Europe/Moscow:20240421T151500
DTSTAMP:20260424T153638
CREATED:20240328T203902Z
LAST-MODIFIED:20240414T194545Z
UID:2855-1713704400-1713712500@xn--b1aghaiacprbijlcgx0o.xn--p1ai
SUMMARY:Макс Филистов-Заборовский. “7 чудес острова Балчуг”
DESCRIPTION:Приветствую! Меня зовут Максим\, я архитектор\, фотограф и дипломированный московский экскурсовод.\n\nПриглашаю Вас в архитектурно-историческое путешествие по стрелке острова Балчуг. \nЭта экскурсия — некий архитектурный ликбез. Она подойдёт и тем\, кто давно увлекается историей архитектуры\, и тем\, кто только начал с ней знакомиться. Помимо истории\, мы затронем и современность и оценим\, как преобразился этот уникальный квартал в сердце столицы. \n \nНас ждёт:\n 7 эпох.\n7 стилей.\n7 чудес острова которого не найти на картах… (Не пытайтесь его найти) \n Мы проделаем с вами путь от русского узорочья и барокко до постмодернизма и хайтека.\n Увидим как архитекторы разных времён делали отсылки друг на друга.\n Узнаем почему центр Москвы – это болото и как оно возникло.\n И правда ли\, что в скором времени хипстеры отнимут заводы у рабочих. \nИсследуем настоящие жемчужины зодчества\, созданные в неповторимом стиле: фабрику «Эйнемъ» (ныне «Красный октябрь»)\, Дом на набережной\, ГЭС-2 и несколько малоизвестных необычных мест) \nЭто и многое другое вы узнаете уже в воскресение в 13:00. Встречаемся на улице\, у 2-го выхода м. Кропоткинская. \nРекомендуется одеваться по погоде. \nСайты для записи: Трипстер: 7 чудес острова Балчуг 🧭 цена экскурсии 743 руб.\, 11 отзывов\, расписание экскурсий в Москве (tripster.ru)\nСпутник: Экскурсия Семь чудес острова Балчуг в Москве – цена 800 ₽ (sputnik8.com) \nСсылка на телеграмм: https://t.me/Filistov_Max \nДо встречи на экскурсии!)
URL:https://xn--b1aghaiacprbijlcgx0o.xn--p1ai/event/2855
LOCATION:м. Кропоткинская\, выход 2
CATEGORIES:Архитектурные экскурсии,История архитектуры,Пешеходные экскурсии
END:VEVENT
BEGIN:VEVENT
DTSTART;TZID=Europe/Moscow:20260329T110000
DTEND;TZID=Europe/Moscow:20260329T130000
DTSTAMP:20260424T153638
CREATED:20251130T095400Z
LAST-MODIFIED:20260223T081043Z
UID:4876-1774782000-1774789200@xn--b1aghaiacprbijlcgx0o.xn--p1ai
SUMMARY:Надежда Бубнова. Архитектурный коктейль Никитских.
DESCRIPTION:Приходите на экскурсию «Архитектурный коктейль Никитских» и станьте специалистом по разным архитектурным стилям. \nНа примере 11 построек на Большой и Малой Никитских разберем особенности русского узорочья XVII в.\, классицизма\, эклектики в разных ее проявлениях\, неорусского стиля\, модерна\, ар-деко и сталинского ампира. \nПосле экскурсии вы с легкостью начнете идентифицировать архитектуру московских зданий на самостоятельных прогулках. \nДолгое время Московская аристократия\, имевшая боярские корни\, сохраняла соответствующие быт и традиции. Ведущим типом городского жилья была усадьба\, лишь в конце XIX века заметно потесненная многоквартирными домами. Богатая московская буржуазия могла себе позволить строить в городе в соответствии со своими представлениями о прекрасном. Большое значение уделялось престижу в своей среде. Стремились обладать всем самым модным и новым.  \nНа Большой и Малой забульварных Никитских сохранились не только дворянские классические усадьбы\, но и много домов\, возведенных в конце XIX-начале XX вв. Что-то было построено в советские времена.  \nВ результате смешался прекрасный коктейль из разностильных и разновременных построек\, которым мы будем наслаждаться. \nЭкскурсия проходит на улице – пройдем около 1\,5 км – одевайтесь по погоде. \nИспользуются радиогиды – вы можете взять свои проводные наушники. \nКоличество мест ограничено. \nБилеты на Таймпад либо пишите ВК\, Tg @nadezda_bubnova \nДополнительная услуга – фотосопровождение – 300 руб.\, предварительное бронирование обязательно. \n 
URL:https://xn--b1aghaiacprbijlcgx0o.xn--p1ai/event/4876
LOCATION:Москва\, площадь Никитские ворота\, фонтан-ротонда\, Москва
CATEGORIES:Архитектурные экскурсии,Пешеходные экскурсии,Сборная экскурсия,Улочки большие и малые,Экскурсии для взрослых
END:VEVENT
END:VCALENDAR