BEGIN:VCALENDAR
VERSION:2.0
PRODID:-//Календарь экскурсий и мероприятий в Москве - ECPv6.14.1//NONSGML v1.0//EN
CALSCALE:GREGORIAN
METHOD:PUBLISH
X-WR-CALNAME:Календарь экскурсий и мероприятий в Москве
X-ORIGINAL-URL:https://xn--b1aghaiacprbijlcgx0o.xn--p1ai
X-WR-CALDESC:Мероприятия для Календарь экскурсий и мероприятий в Москве
REFRESH-INTERVAL;VALUE=DURATION:PT1H
X-Robots-Tag:noindex
X-PUBLISHED-TTL:PT1H
BEGIN:VTIMEZONE
TZID:Europe/Moscow
BEGIN:STANDARD
TZOFFSETFROM:+0300
TZOFFSETTO:+0300
TZNAME:MSK
DTSTART:20260101T000000
END:STANDARD
END:VTIMEZONE
BEGIN:VEVENT
DTSTART;TZID=Europe/Moscow:20260419T110000
DTEND;TZID=Europe/Moscow:20260419T133000
DTSTAMP:20260423T222559
CREATED:20260223T082156Z
LAST-MODIFIED:20260322T103434Z
UID:5118-1776596400-1776605400@xn--b1aghaiacprbijlcgx0o.xn--p1ai
SUMMARY:Надежда Бубнова. Пять веков Ордынок.
DESCRIPTION:Только к XVIII веку район военных слобод\, защищавших Кремль и Китай-город\, обрел мир и покой. Место стало застраиваться купеческими усадьбами с садами и огородами. Однако\, вплоть до середины XIX столетия Ордынки\, как и другие замоскворецкие улицы\, имели нелестную репутацию патриархального захолустья. Только с появлением больших доходных домов и особняков знати образ Замоскворечья стал меняться в создании москвичей. Давайте проследим\, как на протяжении веков изменялись Большая и Малая Ордынки и жизнь на них. \nПоговорим о том \n✅ как названия церквей отсылают к слободскому прошлому; \n✅ что обязательно делали в Юрьев день; \n✅ что создала вдова на средства\, вырученные от продажи своих драгоценностей ; \n✅ к постройке какого ансамбля причастны аж два архитектора-масона; \n✅ как «сотрудничали» два дома. \nУвидим \n✅ дворцовую усадьбу\, превратившуюся в шоколадную фабрику; \n✅ типичный замоскворецкий домик начала XIX в.; \n✅ здание\, заменившее барышень с устаревшей профессией ; \n✅ самый тайный дом СССР; \n✅ парные церковь и усадьбу; \n✅ утраченные сокровища Замоскворечья; \n✅ дом-орденоносец. \nПродолжительность 2\,5 часа без учета посещения чайной в середине экскурсии (расходы в стоимость экскурсии не включены).  \nЭкскурсия проходит на улице – пройдем около 2\,5 км – одевайтесь по погоде. \nИспользуются радиогиды – вы можете взять свои проводные наушники. \nКоличество мест ограничено. \nБилеты на Таймпад либо пишите ВК\, Tg @nadezda_bubnova \nДополнительная опция – фотосопровождение 300 руб.\, предварительное бронирование обязательно.
URL:https://xn--b1aghaiacprbijlcgx0o.xn--p1ai/event/5118
LOCATION:Москва\, ст. м. Третьяковская
CATEGORIES:Историческая экскурсия,Пешеходные экскурсии,Сборная экскурсия,Улочки большие и малые
END:VEVENT
BEGIN:VEVENT
DTSTART;TZID=Europe/Moscow:20260419T150000
DTEND;TZID=Europe/Moscow:20260419T170000
DTSTAMP:20260423T222559
CREATED:20260322T102215Z
LAST-MODIFIED:20260322T102215Z
UID:5169-1776610800-1776618000@xn--b1aghaiacprbijlcgx0o.xn--p1ai
SUMMARY:Надежда Бубнова. Архитектурный коктейль Никитских.
DESCRIPTION:Приходите на экскурсию «Архитектурный коктейль Никитских» и станьте специалистом по разным архитектурным стилям. \nНа примере 11 построек на Большой и Малой Никитских разберем особенности русского узорочья XVII в.\, классицизма\, эклектики в разных ее проявлениях\, неорусского стиля\, модерна\, ар-деко и сталинского ампира. \nПосле экскурсии вы с легкостью начнете идентифицировать архитектуру московских зданий на самостоятельных прогулках. \nДолгое время Московская аристократия\, имевшая боярские корни\, сохраняла соответствующие быт и традиции. Ведущим типом городского жилья была усадьба\, лишь в конце XIX века заметно потесненная многоквартирными домами. Богатая московская буржуазия могла себе позволить строить в городе в соответствии со своими представлениями о прекрасном. Большое значение уделялось престижу в своей среде. Стремились обладать всем самым модным и новым. \nНа Большой и Малой забульварных Никитских сохранились не только дворянские классические усадьбы\, но и много домов\, возведенных в конце XIX-начале XX вв. Что-то было построено в советские времена. \nВ результате смешался прекрасный коктейль из разностильных и разновременных построек\, которым мы будем наслаждаться. \nЭкскурсия проходит на улице – пройдем около 1\,5 км – одевайтесь по погоде. \nИспользуются радиогиды – вы можете взять свои проводные наушники. \nКоличество мест ограничено. \nБилеты на Таймпад либо пишите ВК\, Tg @nadezda_bubnova \nДополнительная услуга – фотосопровождение – 300 руб.\, предварительное бронирование обязательно. \n  \n 
URL:https://xn--b1aghaiacprbijlcgx0o.xn--p1ai/event/5169
LOCATION:Москва\, площадь Никитские ворота\, фонтан-ротонда\, Москва
CATEGORIES:Архитектурные экскурсии,Пешеходные экскурсии,Сборная экскурсия,Улочки большие и малые
END:VEVENT
END:VCALENDAR